BEGIN:VCALENDAR
VERSION:2.0
PRODID:-//Hiller Aviation Museum - ECPv6.15.20//NONSGML v1.0//EN
CALSCALE:GREGORIAN
METHOD:PUBLISH
X-WR-CALNAME:Hiller Aviation Museum
X-ORIGINAL-URL:https://www.hiller.org
X-WR-CALDESC:Events for Hiller Aviation Museum
REFRESH-INTERVAL;VALUE=DURATION:PT1H
X-Robots-Tag:noindex
X-PUBLISHED-TTL:PT1H
BEGIN:VTIMEZONE
TZID:America/Los_Angeles
BEGIN:DAYLIGHT
TZOFFSETFROM:-0800
TZOFFSETTO:-0700
TZNAME:PDT
DTSTART:20250309T100000
END:DAYLIGHT
BEGIN:STANDARD
TZOFFSETFROM:-0700
TZOFFSETTO:-0800
TZNAME:PST
DTSTART:20251102T090000
END:STANDARD
BEGIN:DAYLIGHT
TZOFFSETFROM:-0800
TZOFFSETTO:-0700
TZNAME:PDT
DTSTART:20260308T100000
END:DAYLIGHT
BEGIN:STANDARD
TZOFFSETFROM:-0700
TZOFFSETTO:-0800
TZNAME:PST
DTSTART:20261101T090000
END:STANDARD
BEGIN:DAYLIGHT
TZOFFSETFROM:-0800
TZOFFSETTO:-0700
TZNAME:PDT
DTSTART:20270314T100000
END:DAYLIGHT
BEGIN:STANDARD
TZOFFSETFROM:-0700
TZOFFSETTO:-0800
TZNAME:PST
DTSTART:20271107T090000
END:STANDARD
END:VTIMEZONE
BEGIN:VEVENT
DTSTART;TZID=America/Los_Angeles:20260517T080000
DTEND;TZID=America/Los_Angeles:20260517T090000
DTSTAMP:20260424T073153
CREATED:20260423T202009Z
LAST-MODIFIED:20260423T204655Z
UID:10016530-1779004800-1779008400@www.hiller.org
SUMMARY:Soar & Restore: A Wellness Series
DESCRIPTION:Soar & Restore: A Wellness Series\nIn honor of Mental Health Awareness Month\, take a moment for yourself and join us for Soar & Restore: A Wellness Series where good energy\, connection\, and the spirit of flight come together. \nExpect uplifting experiences\, meaningful moments\, and a chance to recharge. Come as you are\, bring a friend\, and enjoy this journey with our community of wellness professionals guiding the way! \nProceeds will support our new Learning Center project and help future generations take flight. \n			\n				\n				\n				\n				\n				Upcoming Events\n			\n				\n				\n				\n				\n				\nSoar & Restore: A Wellness Series Sound Bath with Laura Stroll SoundDate: Sunday\, May 3\, 8:30 am – 9:45 am\nSoar & Restore: A Wellness Series Mat Pilates with ever PilatesDate: Sunday\, May 17\, 8 am – 9 am\nSoar & Restore: A Wellness Series Sound Bath with Carefol YogaDate: Monday\, May 25\, 6 pm – 7 pm\nSoar & Restore: A Wellness Series Functional Movement & Breathwork with Golden Gate ChiropracticDate: Saturday\, May 30\, 8am – 9am\n\n			\n				\n				\n				\n				\n				Enjoy a complimentary tea station to help you relax and ease into a sense of calm. \nPlease bring a yoga mat to all events. For sound baths and breathwork\, we welcome you to be comfortable; if you’d like\, bring a pillow\, blanket\, water\, and comfortable clothes. Chairs are provided for those who would prefer to sit. \nInformed Consent: These practices are generally safe and offered as supportive wellness experiences. Some people may want to check with a healthcare provider before participating\, especially if they have certain medical conditions or are pregnant. *Before participating in a sound bath for the first time\, people with cardiac pacemakers\, or who have had a recent concussion or whiplash\, artificial heart valves\, cardiac arrhythmias\, stent or shunt\, deep brain stimulation device\, or epilepsy\, especially sound-induced epilepsy\, should consider consulting with their healthcare provider. Please listen to your body and participate at your own comfort level. \n			\n			\n				\n				\n				\n				\n				\n				Get Tickets\n			\n				\n				\n				\n				\n				Get Tickets to the Soar & Restore Events.
URL:https://www.hiller.org/event/soar-restore-a-wellness-series/2026-05-17/
LOCATION:Hiller Aviation Museum\, 601 Skyway Rd.\, San Carlos\, 94070\, United States
CATEGORIES:Event
ATTACH;FMTTYPE=image/jpeg:https://www.hiller.org/wp-content/uploads/Meditation.jpg
END:VEVENT
END:VCALENDAR