BEGIN:VCALENDAR
VERSION:2.0
PRODID:-//Hiller Aviation Museum - ECPv6.15.20//NONSGML v1.0//EN
CALSCALE:GREGORIAN
METHOD:PUBLISH
X-WR-CALNAME:Hiller Aviation Museum
X-ORIGINAL-URL:https://www.hiller.org
X-WR-CALDESC:Events for Hiller Aviation Museum
REFRESH-INTERVAL;VALUE=DURATION:PT1H
X-Robots-Tag:noindex
X-PUBLISHED-TTL:PT1H
BEGIN:VTIMEZONE
TZID:America/Los_Angeles
BEGIN:DAYLIGHT
TZOFFSETFROM:-0800
TZOFFSETTO:-0700
TZNAME:PDT
DTSTART:20250309T100000
END:DAYLIGHT
BEGIN:STANDARD
TZOFFSETFROM:-0700
TZOFFSETTO:-0800
TZNAME:PST
DTSTART:20251102T090000
END:STANDARD
BEGIN:DAYLIGHT
TZOFFSETFROM:-0800
TZOFFSETTO:-0700
TZNAME:PDT
DTSTART:20260308T100000
END:DAYLIGHT
BEGIN:STANDARD
TZOFFSETFROM:-0700
TZOFFSETTO:-0800
TZNAME:PST
DTSTART:20261101T090000
END:STANDARD
BEGIN:DAYLIGHT
TZOFFSETFROM:-0800
TZOFFSETTO:-0700
TZNAME:PDT
DTSTART:20270314T100000
END:DAYLIGHT
BEGIN:STANDARD
TZOFFSETFROM:-0700
TZOFFSETTO:-0800
TZNAME:PST
DTSTART:20271107T090000
END:STANDARD
END:VTIMEZONE
BEGIN:VEVENT
DTSTART;TZID=America/Los_Angeles:20260222T100000
DTEND;TZID=America/Los_Angeles:20260222T170000
DTSTAMP:20260421T163231
CREATED:20250802T144732Z
LAST-MODIFIED:20260415T211618Z
UID:10015365-1771754400-1771779600@www.hiller.org
SUMMARY:Today’s Schedule 10-5
DESCRIPTION:The Hiller Aviation Daily Schedule\nThe Hiller Aviation Museum is open daily from 10 AM to 5 PM. \nThe Museum is closed on Easter Sunday\, Independence Day\, Thanksgiving Day\, and Christmas Day. And for other special events.
URL:https://www.hiller.org/event/todays-schedule-10-5-2-2-2/2026-02-22/
LOCATION:Hiller Aviation Museum\, 601 Skyway Rd.\, San Carlos\, 94070\, United States
CATEGORIES:Today's Schedule
END:VEVENT
BEGIN:VEVENT
DTSTART;TZID=America/Los_Angeles:20260222T103000
DTEND;TZID=America/Los_Angeles:20260222T150000
DTSTAMP:20260421T163231
CREATED:20250908T232037Z
LAST-MODIFIED:20250908T234454Z
UID:10015549-1771756200-1771772400@www.hiller.org
SUMMARY:Drone Plex\, Flight Sim Zone\, Invention Lab\, FMX Flight Simulator
DESCRIPTION:Hiller Aviation Museum\n			\n				\n				\n				\n				\n				Weekend events\n\n			\n			\n				\n				\n				\n				\n			\n				\n				\n			\n				\n				\n				\n				\n				\n				\n				\n				\n				\n				\n				\n				\n				\n				\n				\n				\n				\n				From piloting a realistic flight simulator to building robotic drones\, there are inspiring weekend activities at the museum to immerse yourself in the world of aviation. Special weekend activities are described below. \n			\n			\n				\n				\n				\n				\n			\n				\n				\n				\n				\n				\n				\n				\n				\n				\n				\n				\n				\n				\n					     \nExercise your imagination at the Imagination Playground! Create and build large structures using safe and easy-to-maneuver foam blocks. Perfect for young children. \nFree with Museum admission.Open Daily 10 am - 5 pm   \n				\n			\n			\n				\n				\n				\n				\n				\n				\n				\n				\n				\n				\n				\n				\n					     \nThe Invention Lab uses tools of science to explore aviation\, aerodynamics\, engineering\, assembly\, and design. Perfect for children and adults. \nFree with Museum admission.Saturdays and Sundays 10:30 am – 3 pm   \n				\n			\n			\n				\n				\n				\n				\n			\n				\n				\n				\n				\n				\n				\n				\n				\n				\n				\n				\n				\n				\n					     \nWith expert help from one of our volunteer pilots\, discover how airplanes move in three dimensions with your hands at the controls. Take a virtual flight across the Bay and see the world from the unique perspective of a pilot. \nPass Required. \n\n$5 per Pass (in addition to museum admission).\nPass is free for Members.\nTwo people can fly on one Pass (pilot and co-pilot).\nEach Pass is good for up to 30 minutes of flight time.\nObtain Passes at the Flight Sim Zone\n\nSaturday and Sunday\, 10:30 am – 3 pm  \n                                 Simulator Mission Schedule \n                             \n				\n			\n			\n				\n				\n				\n				\n				\n				\n				\n				\n				\n				\n				\n				\n					     \nFly with an instructor in the FMX Flight Simulator. It's an FAA-approved full-motion flight simulator\, typically seen only in flight schools and academies used in real-world flight training. The cockpit is fully functional\, and the sensations of flight are amazing. This is the most realistic experience possible\, short of flying a real airplane! \nPass Required. \n\n$10 for a 10-minute flight (in addition to museum admission).\n$8 for museum Members.\nPurchase tickets at the Museum Gift Shop. Additional discounts are offered to Museum members at the Pilot\, Barnstormer\, and all Premium levels.\n\nSaturdays and Sundays\, 10:30 am – 3 pm   \n				\n			\n			\n				\n				\n				\n				\n			\n				\n				\n				\n				\n				\n				\n				\n				\n				\n				\n				\n				\n				\n					     \nDiscover the fun and challenge of drone flight!. Observe drone demonstrations and see the remarkable capabilities of robotic aircraft. \nDemonstrations are suitable for all ages. \nSaturdays & Sundays 10:30 am – 3:00 pmPeriodic Drone Flight Demonstrations & Drone Flight Simulation \n    \n				\n			\n			\n				\n				\n				\n				\n				\n			\n				\n				\n				\n				\n			\n				\n				\n			\n				\n				\n				\n				\n				\n				\n				\n				\n				\n				\n				\n				\n				\n				\n				\n				\n				\n				\n			\n			\n				\n				\n				\n				\n				\n				\n				\n				\n				\n				Don't miss out on anything!\nGet our weekly e-newsletter\, "Hiller Happenings\," delivered to your inbox with updates on our events and displays. \n			\n				Get Updates\n			\n			\n				\n				\n				\n				\n			\n				\n				\n			\n				\n				\n				\n				\n				\n				\n				\n				\n				\n				\n				\n				\n				\n				\n				\n				\n				\n				\n				\n				\n					Please enable JavaScript in your browser to complete this form.Please enable JavaScript in your browser to complete this form.Name *FirstLastEmail *Submit  \n				\n			\n				\n				\n				\n				\n				You are subscribing to our weekly e-newsletter\, "Hiller Happenings\," delivered to your inbox with updates on our events and displays. Now you won’t miss out on any of our events.
URL:https://www.hiller.org/event/weekend-events-2-2-2-2-2-2-2/2026-02-22/
LOCATION:Hiller Aviation Museum\, 601 Skyway Rd.\, San Carlos\, 94070\, United States
CATEGORIES:Activity
END:VEVENT
BEGIN:VEVENT
DTSTART;TZID=America/Los_Angeles:20260222T133000
DTEND;TZID=America/Los_Angeles:20260222T160000
DTSTAMP:20260421T163231
CREATED:20250513T214053Z
LAST-MODIFIED:20260203T170332Z
UID:10015083-1771767000-1771776000@www.hiller.org
SUMMARY:Aero Design Challenge (ADC)
DESCRIPTION:Aero Design Challenge\nGrades 4-8\n			\n			\n				\n				\n				\n				\n			\n				\n				\n				\n				\n				\n				\n				\n				\n				\n				\n				Aero Design Challenge is an exploration into design and engineering. Each 2.5-hour program explores concepts in aeronautics that challenges participants to construct a working prototype. \nPlease note schools must be onsite for at least 2 hours and 30 minutes to complete program. Times may vary for larger groups. The program time includes a 10-minute break. We recommend staying at least 30-60 minutes after the program end time to enjoy your lunch onsite and to explore the museum. \n			\n			\n				\n				\n				\n				\n				\n				\n				\n				\n				\n				\n			\n			\n				\n				\n				\n				\n			\n				\n				\n				\n				\n				\n				\n				\n				\n				\n				\n				School Group Registration\nReserve a ADC program date betweenNovember 2025 – April 2026Tuesday through Friday only*Minimum School Group Size of 30 Students Required \n			\n				School Registration\n			\n			\n				\n				\n				\n				\n				\n				\n				\n				\n				\n				General Public Registration\nSunday February 22\, 2026\, 1:30 PM – 4 PMPre-registration required as space is limited.Individual & small group registrations only! \n			\n				\n				\n				\n				\n				Registration will open January 2026. \n			\n				Public Registration\n			\n			\n				\n				\n				\n				\n			\n				\n				\n				\n				\n				\n				\n			\n				\n				\n				\n				\n			\n				\n				\n				\n				\n				\n				\n				\n				\n				\n				\n				2025-2026 Theme: Gliders\n			\n			\n				\n				\n				\n				\n			\n				\n				\n				\n				\n				\n				\n				\n				\n				\n				\n				Each student in the Aero Design Challenge participates in a series of discovery experiences in the Hiller Aviation Museum’s main gallery\, including\, but not limited to: \n\nGlider Exploration\nDesign Challenge\n\nIn addition to the exploration period\, this year’s Aero Design Challenge challenges to design\, build\, and test an aircraft of their own.  At the end of the program\, all students will launch their designs\, with the glider reaching the furthest distance relaunched together in an attempt to set an endurance mark. \n			\n			\n				\n				\n				\n				\n				\n				\n				\n				\n				\n				Held annually since 2013\, the Aero Design Challenge celebrates the design thinking process in the world of flight. Offered at no cost to participants through the generous support of sponsors\, the Aero Design Challenge has engaged over 8\,300 participants since its inception. \n\n			\n				\n					\n					\n					\n				\n				\n					\n					\n					\n				\n				\n					\n					\n					\n				\n				\n					\n					\n					\n				\n				\n					\n					\n					\n				\n				\n					\n					\n					\n				\n				\n					\n					\n					\n				\n				\n					\n					\n					\n				\n				\n			\n				\n				\n				\n				\n			\n				\n				\n				\n				\n				\n				\n			\n				\n				\n				\n				\n			\n				\n				\n				\n				\n				\n				\n				\n				\n				\n				\n				Aero Design Challenge generously sponsored by: \n			\n				\n				\n				\n				\n				\n			\n			\n				\n				\n				\n				\n			\n				\n				\n				\n				\n				\n				\n				\n				\n				\n				\n				HOW TO REGISTER\nAero Design Challenge programs are provided to students at no charge\, but space is limited and pre-registration is required. \nSCHOOL REGISTRATION \nSchools may select any day for their Aero Design Challenge visit. Subject to availability on Hiller Education calendar. One adult is admitted at no charge for every eight students\, with additional adults admitted at $12.00/adult. School groups (minimum 30 students) may complete a field trip reservation request using the Museum’s online request system. \nINDIVIDUAL/SMALL GROUP REGISTRATION\nIndividual students or small groups of up to 12 students may register online for our public Aero Design Challenge session (registration opens January 2026). All students/groups should have at least one accompanying adult chaperone in attendance. One adult chaperone admitted free for each participant. Hiller staff will facilitate the program but are not responsible for the supervision of participants. \nAvailable only on Sunday February 22\, 2026 from 1:30 PM – 4 PM. \nAll Aero Design Challenge participants will receive a confirmation email and additional information regarding the program approximately one week prior to program date. Make your plans now to join an exceptional hands-on aerospace engineering experience. \n			\n			\n				\n				\n				\n				\n			\n				\n				\n				\n				\n				\n				\n				\n				\n				\n				\n				Exciting News!\nThe California Association of Museums and State Superintendent’s Office of Public Instruction have awarded the Hiller Aviation Museum the Excellence in Museum Education Award for its Aero Design Challenge. \nClick here for more information.
URL:https://www.hiller.org/event/adc/
LOCATION:Hiller Aviation Museum\, 601 Skyway Rd.\, San Carlos\, 94070\, United States
CATEGORIES:Event
ATTACH;FMTTYPE=image/jpeg:https://www.hiller.org/wp-content/uploads/ADC-6-Nov-18-120-scaled.jpg
END:VEVENT
END:VCALENDAR