BEGIN:VCALENDAR
VERSION:2.0
PRODID:-//Hiller Aviation Museum - ECPv6.15.20//NONSGML v1.0//EN
CALSCALE:GREGORIAN
METHOD:PUBLISH
X-WR-CALNAME:Hiller Aviation Museum
X-ORIGINAL-URL:https://www.hiller.org
X-WR-CALDESC:Events for Hiller Aviation Museum
REFRESH-INTERVAL;VALUE=DURATION:PT1H
X-Robots-Tag:noindex
X-PUBLISHED-TTL:PT1H
BEGIN:VTIMEZONE
TZID:America/Los_Angeles
BEGIN:DAYLIGHT
TZOFFSETFROM:-0800
TZOFFSETTO:-0700
TZNAME:PDT
DTSTART:20240310T100000
END:DAYLIGHT
BEGIN:STANDARD
TZOFFSETFROM:-0700
TZOFFSETTO:-0800
TZNAME:PST
DTSTART:20241103T090000
END:STANDARD
BEGIN:DAYLIGHT
TZOFFSETFROM:-0800
TZOFFSETTO:-0700
TZNAME:PDT
DTSTART:20250309T100000
END:DAYLIGHT
BEGIN:STANDARD
TZOFFSETFROM:-0700
TZOFFSETTO:-0800
TZNAME:PST
DTSTART:20251102T090000
END:STANDARD
BEGIN:DAYLIGHT
TZOFFSETFROM:-0800
TZOFFSETTO:-0700
TZNAME:PDT
DTSTART:20260308T100000
END:DAYLIGHT
BEGIN:STANDARD
TZOFFSETFROM:-0700
TZOFFSETTO:-0800
TZNAME:PST
DTSTART:20261101T090000
END:STANDARD
END:VTIMEZONE
BEGIN:VEVENT
DTSTART;TZID=America/Los_Angeles:20250609T100000
DTEND;TZID=America/Los_Angeles:20250609T173000
DTSTAMP:20260419T110701
CREATED:20250604T202045Z
LAST-MODIFIED:20250609T170811Z
UID:10015084-1749463200-1749490200@www.hiller.org
SUMMARY:Today’s Schedule 10:00 - 5:30
DESCRIPTION:The Hiller Aviation Daily Schedule\nThe Hiller Aviation Museum is open daily from 10 AM to 5:30 PM June 9 – August 15. \nThe Museum is closed on Easter Sunday\, Independence Day\, Thanksgiving Day\, and Christmas Day. And for other special events.
URL:https://www.hiller.org/event/todays-schedule-10-530-8/2025-06-09/
LOCATION:Hiller Aviation Museum\, 601 Skyway Rd.\, San Carlos\, 94070\, United States
CATEGORIES:Today's Schedule
END:VEVENT
BEGIN:VEVENT
DTSTART;TZID=America/Los_Angeles:20250611T100000
DTEND;TZID=America/Los_Angeles:20250611T173000
DTSTAMP:20260419T110701
CREATED:20250604T202045Z
LAST-MODIFIED:20250609T170811Z
UID:10015086-1749636000-1749663000@www.hiller.org
SUMMARY:Today’s Schedule 10:00 - 5:30
DESCRIPTION:The Hiller Aviation Daily Schedule\nThe Hiller Aviation Museum is open daily from 10 AM to 5:30 PM June 9 – August 15. \nThe Museum is closed on Easter Sunday\, Independence Day\, Thanksgiving Day\, and Christmas Day. And for other special events.
URL:https://www.hiller.org/event/todays-schedule-10-530-8/2025-06-11/
LOCATION:Hiller Aviation Museum\, 601 Skyway Rd.\, San Carlos\, 94070\, United States
CATEGORIES:Today's Schedule
END:VEVENT
BEGIN:VEVENT
DTSTART;TZID=America/Los_Angeles:20250612T100000
DTEND;TZID=America/Los_Angeles:20250612T173000
DTSTAMP:20260419T110701
CREATED:20250604T202045Z
LAST-MODIFIED:20250609T170811Z
UID:10015087-1749722400-1749749400@www.hiller.org
SUMMARY:Today’s Schedule 10:00 - 5:30
DESCRIPTION:The Hiller Aviation Daily Schedule\nThe Hiller Aviation Museum is open daily from 10 AM to 5:30 PM June 9 – August 15. \nThe Museum is closed on Easter Sunday\, Independence Day\, Thanksgiving Day\, and Christmas Day. And for other special events.
URL:https://www.hiller.org/event/todays-schedule-10-530-8/2025-06-12/
LOCATION:Hiller Aviation Museum\, 601 Skyway Rd.\, San Carlos\, 94070\, United States
CATEGORIES:Today's Schedule
END:VEVENT
BEGIN:VEVENT
DTSTART;TZID=America/Los_Angeles:20250613T100000
DTEND;TZID=America/Los_Angeles:20250613T173000
DTSTAMP:20260419T110701
CREATED:20250604T202045Z
LAST-MODIFIED:20250609T170811Z
UID:10015088-1749808800-1749835800@www.hiller.org
SUMMARY:Today’s Schedule 10:00 - 5:30
DESCRIPTION:The Hiller Aviation Daily Schedule\nThe Hiller Aviation Museum is open daily from 10 AM to 5:30 PM June 9 – August 15. \nThe Museum is closed on Easter Sunday\, Independence Day\, Thanksgiving Day\, and Christmas Day. And for other special events.
URL:https://www.hiller.org/event/todays-schedule-10-530-8/2025-06-13/
LOCATION:Hiller Aviation Museum\, 601 Skyway Rd.\, San Carlos\, 94070\, United States
CATEGORIES:Today's Schedule
END:VEVENT
BEGIN:VEVENT
DTSTART;TZID=America/Los_Angeles:20250615T100000
DTEND;TZID=America/Los_Angeles:20250615T173000
DTSTAMP:20260419T110701
CREATED:20250604T202045Z
LAST-MODIFIED:20250609T170811Z
UID:10015089-1749981600-1750008600@www.hiller.org
SUMMARY:Today’s Schedule 10:00 - 5:30
DESCRIPTION:The Hiller Aviation Daily Schedule\nThe Hiller Aviation Museum is open daily from 10 AM to 5:30 PM June 9 – August 15. \nThe Museum is closed on Easter Sunday\, Independence Day\, Thanksgiving Day\, and Christmas Day. And for other special events.
URL:https://www.hiller.org/event/todays-schedule-10-530-8/2025-06-15/
LOCATION:Hiller Aviation Museum\, 601 Skyway Rd.\, San Carlos\, 94070\, United States
CATEGORIES:Today's Schedule
END:VEVENT
BEGIN:VEVENT
DTSTART;TZID=America/Los_Angeles:20250616T100000
DTEND;TZID=America/Los_Angeles:20250616T173000
DTSTAMP:20260419T110701
CREATED:20250604T202045Z
LAST-MODIFIED:20250609T170811Z
UID:10015090-1750068000-1750095000@www.hiller.org
SUMMARY:Today’s Schedule 10:00 - 5:30
DESCRIPTION:The Hiller Aviation Daily Schedule\nThe Hiller Aviation Museum is open daily from 10 AM to 5:30 PM June 9 – August 15. \nThe Museum is closed on Easter Sunday\, Independence Day\, Thanksgiving Day\, and Christmas Day. And for other special events.
URL:https://www.hiller.org/event/todays-schedule-10-530-8/2025-06-16/
LOCATION:Hiller Aviation Museum\, 601 Skyway Rd.\, San Carlos\, 94070\, United States
CATEGORIES:Today's Schedule
END:VEVENT
BEGIN:VEVENT
DTSTART;TZID=America/Los_Angeles:20250617T100000
DTEND;TZID=America/Los_Angeles:20250617T173000
DTSTAMP:20260419T110701
CREATED:20250604T202045Z
LAST-MODIFIED:20250609T170811Z
UID:10015091-1750154400-1750181400@www.hiller.org
SUMMARY:Today’s Schedule 10:00 - 5:30
DESCRIPTION:The Hiller Aviation Daily Schedule\nThe Hiller Aviation Museum is open daily from 10 AM to 5:30 PM June 9 – August 15. \nThe Museum is closed on Easter Sunday\, Independence Day\, Thanksgiving Day\, and Christmas Day. And for other special events.
URL:https://www.hiller.org/event/todays-schedule-10-530-8/2025-06-17/
LOCATION:Hiller Aviation Museum\, 601 Skyway Rd.\, San Carlos\, 94070\, United States
CATEGORIES:Today's Schedule
END:VEVENT
BEGIN:VEVENT
DTSTART;TZID=America/Los_Angeles:20250618T100000
DTEND;TZID=America/Los_Angeles:20250618T173000
DTSTAMP:20260419T110701
CREATED:20250604T202045Z
LAST-MODIFIED:20250609T170811Z
UID:10015092-1750240800-1750267800@www.hiller.org
SUMMARY:Today’s Schedule 10:00 - 5:30
DESCRIPTION:The Hiller Aviation Daily Schedule\nThe Hiller Aviation Museum is open daily from 10 AM to 5:30 PM June 9 – August 15. \nThe Museum is closed on Easter Sunday\, Independence Day\, Thanksgiving Day\, and Christmas Day. And for other special events.
URL:https://www.hiller.org/event/todays-schedule-10-530-8/2025-06-18/
LOCATION:Hiller Aviation Museum\, 601 Skyway Rd.\, San Carlos\, 94070\, United States
CATEGORIES:Today's Schedule
END:VEVENT
BEGIN:VEVENT
DTSTART;TZID=America/Los_Angeles:20250619T100000
DTEND;TZID=America/Los_Angeles:20250619T173000
DTSTAMP:20260419T110701
CREATED:20250604T202045Z
LAST-MODIFIED:20250609T170811Z
UID:10015093-1750327200-1750354200@www.hiller.org
SUMMARY:Today’s Schedule 10:00 - 5:30
DESCRIPTION:The Hiller Aviation Daily Schedule\nThe Hiller Aviation Museum is open daily from 10 AM to 5:30 PM June 9 – August 15. \nThe Museum is closed on Easter Sunday\, Independence Day\, Thanksgiving Day\, and Christmas Day. And for other special events.
URL:https://www.hiller.org/event/todays-schedule-10-530-8/2025-06-19/
LOCATION:Hiller Aviation Museum\, 601 Skyway Rd.\, San Carlos\, 94070\, United States
CATEGORIES:Today's Schedule
END:VEVENT
BEGIN:VEVENT
DTSTART;TZID=America/Los_Angeles:20250620T100000
DTEND;TZID=America/Los_Angeles:20250620T173000
DTSTAMP:20260419T110701
CREATED:20250604T202045Z
LAST-MODIFIED:20250609T170811Z
UID:10015094-1750413600-1750440600@www.hiller.org
SUMMARY:Today’s Schedule 10:00 - 5:30
DESCRIPTION:The Hiller Aviation Daily Schedule\nThe Hiller Aviation Museum is open daily from 10 AM to 5:30 PM June 9 – August 15. \nThe Museum is closed on Easter Sunday\, Independence Day\, Thanksgiving Day\, and Christmas Day. And for other special events.
URL:https://www.hiller.org/event/todays-schedule-10-530-8/2025-06-20/
LOCATION:Hiller Aviation Museum\, 601 Skyway Rd.\, San Carlos\, 94070\, United States
CATEGORIES:Today's Schedule
END:VEVENT
BEGIN:VEVENT
DTSTART;TZID=America/Los_Angeles:20250621T100000
DTEND;TZID=America/Los_Angeles:20250621T173000
DTSTAMP:20260419T110701
CREATED:20250604T202045Z
LAST-MODIFIED:20250609T170811Z
UID:10015095-1750500000-1750527000@www.hiller.org
SUMMARY:Today’s Schedule 10:00 - 5:30
DESCRIPTION:The Hiller Aviation Daily Schedule\nThe Hiller Aviation Museum is open daily from 10 AM to 5:30 PM June 9 – August 15. \nThe Museum is closed on Easter Sunday\, Independence Day\, Thanksgiving Day\, and Christmas Day. And for other special events.
URL:https://www.hiller.org/event/todays-schedule-10-530-8/2025-06-21/
LOCATION:Hiller Aviation Museum\, 601 Skyway Rd.\, San Carlos\, 94070\, United States
CATEGORIES:Today's Schedule
END:VEVENT
BEGIN:VEVENT
DTSTART;TZID=America/Los_Angeles:20250622T100000
DTEND;TZID=America/Los_Angeles:20250622T173000
DTSTAMP:20260419T110701
CREATED:20250604T202045Z
LAST-MODIFIED:20250609T170811Z
UID:10015096-1750586400-1750613400@www.hiller.org
SUMMARY:Today’s Schedule 10:00 - 5:30
DESCRIPTION:The Hiller Aviation Daily Schedule\nThe Hiller Aviation Museum is open daily from 10 AM to 5:30 PM June 9 – August 15. \nThe Museum is closed on Easter Sunday\, Independence Day\, Thanksgiving Day\, and Christmas Day. And for other special events.
URL:https://www.hiller.org/event/todays-schedule-10-530-8/2025-06-22/
LOCATION:Hiller Aviation Museum\, 601 Skyway Rd.\, San Carlos\, 94070\, United States
CATEGORIES:Today's Schedule
END:VEVENT
BEGIN:VEVENT
DTSTART;TZID=America/Los_Angeles:20250623T100000
DTEND;TZID=America/Los_Angeles:20250623T173000
DTSTAMP:20260419T110701
CREATED:20250604T202045Z
LAST-MODIFIED:20250609T170811Z
UID:10015097-1750672800-1750699800@www.hiller.org
SUMMARY:Today’s Schedule 10:00 - 5:30
DESCRIPTION:The Hiller Aviation Daily Schedule\nThe Hiller Aviation Museum is open daily from 10 AM to 5:30 PM June 9 – August 15. \nThe Museum is closed on Easter Sunday\, Independence Day\, Thanksgiving Day\, and Christmas Day. And for other special events.
URL:https://www.hiller.org/event/todays-schedule-10-530-8/2025-06-23/
LOCATION:Hiller Aviation Museum\, 601 Skyway Rd.\, San Carlos\, 94070\, United States
CATEGORIES:Today's Schedule
END:VEVENT
BEGIN:VEVENT
DTSTART;TZID=America/Los_Angeles:20250624T100000
DTEND;TZID=America/Los_Angeles:20250624T173000
DTSTAMP:20260419T110701
CREATED:20250604T202045Z
LAST-MODIFIED:20250609T170811Z
UID:10015098-1750759200-1750786200@www.hiller.org
SUMMARY:Today’s Schedule 10:00 - 5:30
DESCRIPTION:The Hiller Aviation Daily Schedule\nThe Hiller Aviation Museum is open daily from 10 AM to 5:30 PM June 9 – August 15. \nThe Museum is closed on Easter Sunday\, Independence Day\, Thanksgiving Day\, and Christmas Day. And for other special events.
URL:https://www.hiller.org/event/todays-schedule-10-530-8/2025-06-24/
LOCATION:Hiller Aviation Museum\, 601 Skyway Rd.\, San Carlos\, 94070\, United States
CATEGORIES:Today's Schedule
END:VEVENT
BEGIN:VEVENT
DTSTART;TZID=America/Los_Angeles:20250625T100000
DTEND;TZID=America/Los_Angeles:20250625T173000
DTSTAMP:20260419T110701
CREATED:20250604T202045Z
LAST-MODIFIED:20250609T170811Z
UID:10015099-1750845600-1750872600@www.hiller.org
SUMMARY:Today’s Schedule 10:00 - 5:30
DESCRIPTION:The Hiller Aviation Daily Schedule\nThe Hiller Aviation Museum is open daily from 10 AM to 5:30 PM June 9 – August 15. \nThe Museum is closed on Easter Sunday\, Independence Day\, Thanksgiving Day\, and Christmas Day. And for other special events.
URL:https://www.hiller.org/event/todays-schedule-10-530-8/2025-06-25/
LOCATION:Hiller Aviation Museum\, 601 Skyway Rd.\, San Carlos\, 94070\, United States
CATEGORIES:Today's Schedule
END:VEVENT
BEGIN:VEVENT
DTSTART;TZID=America/Los_Angeles:20250626T100000
DTEND;TZID=America/Los_Angeles:20250626T173000
DTSTAMP:20260419T110701
CREATED:20250604T202045Z
LAST-MODIFIED:20250609T170811Z
UID:10015100-1750932000-1750959000@www.hiller.org
SUMMARY:Today’s Schedule 10:00 - 5:30
DESCRIPTION:The Hiller Aviation Daily Schedule\nThe Hiller Aviation Museum is open daily from 10 AM to 5:30 PM June 9 – August 15. \nThe Museum is closed on Easter Sunday\, Independence Day\, Thanksgiving Day\, and Christmas Day. And for other special events.
URL:https://www.hiller.org/event/todays-schedule-10-530-8/2025-06-26/
LOCATION:Hiller Aviation Museum\, 601 Skyway Rd.\, San Carlos\, 94070\, United States
CATEGORIES:Today's Schedule
END:VEVENT
BEGIN:VEVENT
DTSTART;TZID=America/Los_Angeles:20250627T100000
DTEND;TZID=America/Los_Angeles:20250627T173000
DTSTAMP:20260419T110701
CREATED:20250604T202045Z
LAST-MODIFIED:20250609T170811Z
UID:10015101-1751018400-1751045400@www.hiller.org
SUMMARY:Today’s Schedule 10:00 - 5:30
DESCRIPTION:The Hiller Aviation Daily Schedule\nThe Hiller Aviation Museum is open daily from 10 AM to 5:30 PM June 9 – August 15. \nThe Museum is closed on Easter Sunday\, Independence Day\, Thanksgiving Day\, and Christmas Day. And for other special events.
URL:https://www.hiller.org/event/todays-schedule-10-530-8/2025-06-27/
LOCATION:Hiller Aviation Museum\, 601 Skyway Rd.\, San Carlos\, 94070\, United States
CATEGORIES:Today's Schedule
END:VEVENT
BEGIN:VEVENT
DTSTART;TZID=America/Los_Angeles:20250628T100000
DTEND;TZID=America/Los_Angeles:20250628T173000
DTSTAMP:20260419T110701
CREATED:20250604T202045Z
LAST-MODIFIED:20250609T170811Z
UID:10015102-1751104800-1751131800@www.hiller.org
SUMMARY:Today’s Schedule 10:00 - 5:30
DESCRIPTION:The Hiller Aviation Daily Schedule\nThe Hiller Aviation Museum is open daily from 10 AM to 5:30 PM June 9 – August 15. \nThe Museum is closed on Easter Sunday\, Independence Day\, Thanksgiving Day\, and Christmas Day. And for other special events.
URL:https://www.hiller.org/event/todays-schedule-10-530-8/2025-06-28/
LOCATION:Hiller Aviation Museum\, 601 Skyway Rd.\, San Carlos\, 94070\, United States
CATEGORIES:Today's Schedule
END:VEVENT
BEGIN:VEVENT
DTSTART;TZID=America/Los_Angeles:20250629T100000
DTEND;TZID=America/Los_Angeles:20250629T173000
DTSTAMP:20260419T110701
CREATED:20250604T202045Z
LAST-MODIFIED:20250609T170811Z
UID:10015103-1751191200-1751218200@www.hiller.org
SUMMARY:Today’s Schedule 10:00 - 5:30
DESCRIPTION:The Hiller Aviation Daily Schedule\nThe Hiller Aviation Museum is open daily from 10 AM to 5:30 PM June 9 – August 15. \nThe Museum is closed on Easter Sunday\, Independence Day\, Thanksgiving Day\, and Christmas Day. And for other special events.
URL:https://www.hiller.org/event/todays-schedule-10-530-8/2025-06-29/
LOCATION:Hiller Aviation Museum\, 601 Skyway Rd.\, San Carlos\, 94070\, United States
CATEGORIES:Today's Schedule
END:VEVENT
BEGIN:VEVENT
DTSTART;TZID=America/Los_Angeles:20250630T100000
DTEND;TZID=America/Los_Angeles:20250630T173000
DTSTAMP:20260419T110701
CREATED:20250604T202045Z
LAST-MODIFIED:20250609T170811Z
UID:10015104-1751277600-1751304600@www.hiller.org
SUMMARY:Today’s Schedule 10:00 - 5:30
DESCRIPTION:The Hiller Aviation Daily Schedule\nThe Hiller Aviation Museum is open daily from 10 AM to 5:30 PM June 9 – August 15. \nThe Museum is closed on Easter Sunday\, Independence Day\, Thanksgiving Day\, and Christmas Day. And for other special events.
URL:https://www.hiller.org/event/todays-schedule-10-530-8/2025-06-30/
LOCATION:Hiller Aviation Museum\, 601 Skyway Rd.\, San Carlos\, 94070\, United States
CATEGORIES:Today's Schedule
END:VEVENT
END:VCALENDAR