BEGIN:VCALENDAR
VERSION:2.0
PRODID:-//Hiller Aviation Museum - ECPv6.15.20//NONSGML v1.0//EN
CALSCALE:GREGORIAN
METHOD:PUBLISH
X-WR-CALNAME:Hiller Aviation Museum
X-ORIGINAL-URL:https://www.hiller.org
X-WR-CALDESC:Events for Hiller Aviation Museum
REFRESH-INTERVAL;VALUE=DURATION:PT1H
X-Robots-Tag:noindex
X-PUBLISHED-TTL:PT1H
BEGIN:VTIMEZONE
TZID:America/Los_Angeles
BEGIN:DAYLIGHT
TZOFFSETFROM:-0800
TZOFFSETTO:-0700
TZNAME:PDT
DTSTART:20240310T100000
END:DAYLIGHT
BEGIN:STANDARD
TZOFFSETFROM:-0700
TZOFFSETTO:-0800
TZNAME:PST
DTSTART:20241103T090000
END:STANDARD
BEGIN:DAYLIGHT
TZOFFSETFROM:-0800
TZOFFSETTO:-0700
TZNAME:PDT
DTSTART:20250309T100000
END:DAYLIGHT
BEGIN:STANDARD
TZOFFSETFROM:-0700
TZOFFSETTO:-0800
TZNAME:PST
DTSTART:20251102T090000
END:STANDARD
BEGIN:DAYLIGHT
TZOFFSETFROM:-0800
TZOFFSETTO:-0700
TZNAME:PDT
DTSTART:20260308T100000
END:DAYLIGHT
BEGIN:STANDARD
TZOFFSETFROM:-0700
TZOFFSETTO:-0800
TZNAME:PST
DTSTART:20261101T090000
END:STANDARD
END:VTIMEZONE
BEGIN:VEVENT
DTSTART;TZID=America/Los_Angeles:20250701T100000
DTEND;TZID=America/Los_Angeles:20250701T173000
DTSTAMP:20260421T100322
CREATED:20250604T202045Z
LAST-MODIFIED:20250609T170811Z
UID:10015105-1751364000-1751391000@www.hiller.org
SUMMARY:Today’s Schedule 10:00 - 5:30
DESCRIPTION:The Hiller Aviation Daily Schedule\nThe Hiller Aviation Museum is open daily from 10 AM to 5:30 PM June 9 – August 15. \nThe Museum is closed on Easter Sunday\, Independence Day\, Thanksgiving Day\, and Christmas Day. And for other special events.
URL:https://www.hiller.org/event/todays-schedule-10-530-8/2025-07-01/
LOCATION:Hiller Aviation Museum\, 601 Skyway Rd.\, San Carlos\, 94070\, United States
CATEGORIES:Today's Schedule
END:VEVENT
BEGIN:VEVENT
DTSTART;TZID=America/Los_Angeles:20250702T100000
DTEND;TZID=America/Los_Angeles:20250702T173000
DTSTAMP:20260421T100322
CREATED:20250604T202045Z
LAST-MODIFIED:20250609T170811Z
UID:10015106-1751450400-1751477400@www.hiller.org
SUMMARY:Today’s Schedule 10:00 - 5:30
DESCRIPTION:The Hiller Aviation Daily Schedule\nThe Hiller Aviation Museum is open daily from 10 AM to 5:30 PM June 9 – August 15. \nThe Museum is closed on Easter Sunday\, Independence Day\, Thanksgiving Day\, and Christmas Day. And for other special events.
URL:https://www.hiller.org/event/todays-schedule-10-530-8/2025-07-02/
LOCATION:Hiller Aviation Museum\, 601 Skyway Rd.\, San Carlos\, 94070\, United States
CATEGORIES:Today's Schedule
END:VEVENT
BEGIN:VEVENT
DTSTART;TZID=America/Los_Angeles:20250703T100000
DTEND;TZID=America/Los_Angeles:20250703T173000
DTSTAMP:20260421T100322
CREATED:20250604T202045Z
LAST-MODIFIED:20250609T170811Z
UID:10015107-1751536800-1751563800@www.hiller.org
SUMMARY:Today’s Schedule 10:00 - 5:30
DESCRIPTION:The Hiller Aviation Daily Schedule\nThe Hiller Aviation Museum is open daily from 10 AM to 5:30 PM June 9 – August 15. \nThe Museum is closed on Easter Sunday\, Independence Day\, Thanksgiving Day\, and Christmas Day. And for other special events.
URL:https://www.hiller.org/event/todays-schedule-10-530-8/2025-07-03/
LOCATION:Hiller Aviation Museum\, 601 Skyway Rd.\, San Carlos\, 94070\, United States
CATEGORIES:Today's Schedule
END:VEVENT
BEGIN:VEVENT
DTSTART;TZID=America/Los_Angeles:20250704T100000
DTEND;TZID=America/Los_Angeles:20250704T173000
DTSTAMP:20260421T100322
CREATED:20250604T202045Z
LAST-MODIFIED:20250609T170811Z
UID:10015108-1751623200-1751650200@www.hiller.org
SUMMARY:Today’s Schedule 10:00 - 5:30
DESCRIPTION:The Hiller Aviation Daily Schedule\nThe Hiller Aviation Museum is open daily from 10 AM to 5:30 PM June 9 – August 15. \nThe Museum is closed on Easter Sunday\, Independence Day\, Thanksgiving Day\, and Christmas Day. And for other special events.
URL:https://www.hiller.org/event/todays-schedule-10-530-8/2025-07-04/
LOCATION:Hiller Aviation Museum\, 601 Skyway Rd.\, San Carlos\, 94070\, United States
CATEGORIES:Today's Schedule
END:VEVENT
BEGIN:VEVENT
DTSTART;TZID=America/Los_Angeles:20250705T100000
DTEND;TZID=America/Los_Angeles:20250705T173000
DTSTAMP:20260421T100322
CREATED:20250604T202045Z
LAST-MODIFIED:20250609T170811Z
UID:10015109-1751709600-1751736600@www.hiller.org
SUMMARY:Today’s Schedule 10:00 - 5:30
DESCRIPTION:The Hiller Aviation Daily Schedule\nThe Hiller Aviation Museum is open daily from 10 AM to 5:30 PM June 9 – August 15. \nThe Museum is closed on Easter Sunday\, Independence Day\, Thanksgiving Day\, and Christmas Day. And for other special events.
URL:https://www.hiller.org/event/todays-schedule-10-530-8/2025-07-05/
LOCATION:Hiller Aviation Museum\, 601 Skyway Rd.\, San Carlos\, 94070\, United States
CATEGORIES:Today's Schedule
END:VEVENT
BEGIN:VEVENT
DTSTART;TZID=America/Los_Angeles:20250706T100000
DTEND;TZID=America/Los_Angeles:20250706T173000
DTSTAMP:20260421T100322
CREATED:20250604T202045Z
LAST-MODIFIED:20250609T170811Z
UID:10015110-1751796000-1751823000@www.hiller.org
SUMMARY:Today’s Schedule 10:00 - 5:30
DESCRIPTION:The Hiller Aviation Daily Schedule\nThe Hiller Aviation Museum is open daily from 10 AM to 5:30 PM June 9 – August 15. \nThe Museum is closed on Easter Sunday\, Independence Day\, Thanksgiving Day\, and Christmas Day. And for other special events.
URL:https://www.hiller.org/event/todays-schedule-10-530-8/2025-07-06/
LOCATION:Hiller Aviation Museum\, 601 Skyway Rd.\, San Carlos\, 94070\, United States
CATEGORIES:Today's Schedule
END:VEVENT
BEGIN:VEVENT
DTSTART;TZID=America/Los_Angeles:20250707T100000
DTEND;TZID=America/Los_Angeles:20250707T173000
DTSTAMP:20260421T100322
CREATED:20250707T191618Z
LAST-MODIFIED:20250707T191621Z
UID:10015111-1751882400-1751909400@www.hiller.org
SUMMARY:Today’s Schedule 10:00 - 5:30
DESCRIPTION:The Hiller Aviation Daily Schedule\nThe Hiller Aviation Museum is open daily from 10 AM to 5:30 PM June 9 – August 15. \nThe Museum is closed on Easter Sunday\, Independence Day\, Thanksgiving Day\, and Christmas Day. And for other special events.
URL:https://www.hiller.org/event/todays-schedule-10-530-8-2/2025-07-07/
LOCATION:Hiller Aviation Museum\, 601 Skyway Rd.\, San Carlos\, 94070\, United States
CATEGORIES:Today's Schedule
END:VEVENT
BEGIN:VEVENT
DTSTART;TZID=America/Los_Angeles:20250708T100000
DTEND;TZID=America/Los_Angeles:20250708T173000
DTSTAMP:20260421T100322
CREATED:20250707T191618Z
LAST-MODIFIED:20250707T191621Z
UID:10015112-1751968800-1751995800@www.hiller.org
SUMMARY:Today’s Schedule 10:00 - 5:30
DESCRIPTION:The Hiller Aviation Daily Schedule\nThe Hiller Aviation Museum is open daily from 10 AM to 5:30 PM June 9 – August 15. \nThe Museum is closed on Easter Sunday\, Independence Day\, Thanksgiving Day\, and Christmas Day. And for other special events.
URL:https://www.hiller.org/event/todays-schedule-10-530-8-2/2025-07-08/
LOCATION:Hiller Aviation Museum\, 601 Skyway Rd.\, San Carlos\, 94070\, United States
CATEGORIES:Today's Schedule
END:VEVENT
BEGIN:VEVENT
DTSTART;TZID=America/Los_Angeles:20250709T100000
DTEND;TZID=America/Los_Angeles:20250709T173000
DTSTAMP:20260421T100322
CREATED:20250707T191618Z
LAST-MODIFIED:20250707T191621Z
UID:10015113-1752055200-1752082200@www.hiller.org
SUMMARY:Today’s Schedule 10:00 - 5:30
DESCRIPTION:The Hiller Aviation Daily Schedule\nThe Hiller Aviation Museum is open daily from 10 AM to 5:30 PM June 9 – August 15. \nThe Museum is closed on Easter Sunday\, Independence Day\, Thanksgiving Day\, and Christmas Day. And for other special events.
URL:https://www.hiller.org/event/todays-schedule-10-530-8-2/2025-07-09/
LOCATION:Hiller Aviation Museum\, 601 Skyway Rd.\, San Carlos\, 94070\, United States
CATEGORIES:Today's Schedule
END:VEVENT
BEGIN:VEVENT
DTSTART;TZID=America/Los_Angeles:20250710T100000
DTEND;TZID=America/Los_Angeles:20250710T173000
DTSTAMP:20260421T100322
CREATED:20250707T191618Z
LAST-MODIFIED:20250707T191621Z
UID:10015114-1752141600-1752168600@www.hiller.org
SUMMARY:Today’s Schedule 10:00 - 5:30
DESCRIPTION:The Hiller Aviation Daily Schedule\nThe Hiller Aviation Museum is open daily from 10 AM to 5:30 PM June 9 – August 15. \nThe Museum is closed on Easter Sunday\, Independence Day\, Thanksgiving Day\, and Christmas Day. And for other special events.
URL:https://www.hiller.org/event/todays-schedule-10-530-8-2/2025-07-10/
LOCATION:Hiller Aviation Museum\, 601 Skyway Rd.\, San Carlos\, 94070\, United States
CATEGORIES:Today's Schedule
END:VEVENT
BEGIN:VEVENT
DTSTART;TZID=America/Los_Angeles:20250711T100000
DTEND;TZID=America/Los_Angeles:20250711T173000
DTSTAMP:20260421T100322
CREATED:20250707T191618Z
LAST-MODIFIED:20250707T191621Z
UID:10015115-1752228000-1752255000@www.hiller.org
SUMMARY:Today’s Schedule 10:00 - 5:30
DESCRIPTION:The Hiller Aviation Daily Schedule\nThe Hiller Aviation Museum is open daily from 10 AM to 5:30 PM June 9 – August 15. \nThe Museum is closed on Easter Sunday\, Independence Day\, Thanksgiving Day\, and Christmas Day. And for other special events.
URL:https://www.hiller.org/event/todays-schedule-10-530-8-2/2025-07-11/
LOCATION:Hiller Aviation Museum\, 601 Skyway Rd.\, San Carlos\, 94070\, United States
CATEGORIES:Today's Schedule
END:VEVENT
BEGIN:VEVENT
DTSTART;TZID=America/Los_Angeles:20250712T100000
DTEND;TZID=America/Los_Angeles:20250712T173000
DTSTAMP:20260421T100322
CREATED:20250707T191618Z
LAST-MODIFIED:20250707T191621Z
UID:10015116-1752314400-1752341400@www.hiller.org
SUMMARY:Today’s Schedule 10:00 - 5:30
DESCRIPTION:The Hiller Aviation Daily Schedule\nThe Hiller Aviation Museum is open daily from 10 AM to 5:30 PM June 9 – August 15. \nThe Museum is closed on Easter Sunday\, Independence Day\, Thanksgiving Day\, and Christmas Day. And for other special events.
URL:https://www.hiller.org/event/todays-schedule-10-530-8-2/2025-07-12/
LOCATION:Hiller Aviation Museum\, 601 Skyway Rd.\, San Carlos\, 94070\, United States
CATEGORIES:Today's Schedule
END:VEVENT
BEGIN:VEVENT
DTSTART;TZID=America/Los_Angeles:20250713T100000
DTEND;TZID=America/Los_Angeles:20250713T173000
DTSTAMP:20260421T100322
CREATED:20250707T191618Z
LAST-MODIFIED:20250707T191621Z
UID:10015117-1752400800-1752427800@www.hiller.org
SUMMARY:Today’s Schedule 10:00 - 5:30
DESCRIPTION:The Hiller Aviation Daily Schedule\nThe Hiller Aviation Museum is open daily from 10 AM to 5:30 PM June 9 – August 15. \nThe Museum is closed on Easter Sunday\, Independence Day\, Thanksgiving Day\, and Christmas Day. And for other special events.
URL:https://www.hiller.org/event/todays-schedule-10-530-8-2/2025-07-13/
LOCATION:Hiller Aviation Museum\, 601 Skyway Rd.\, San Carlos\, 94070\, United States
CATEGORIES:Today's Schedule
END:VEVENT
BEGIN:VEVENT
DTSTART;TZID=America/Los_Angeles:20250714T100000
DTEND;TZID=America/Los_Angeles:20250714T173000
DTSTAMP:20260421T100322
CREATED:20250707T191618Z
LAST-MODIFIED:20250707T191621Z
UID:10015118-1752487200-1752514200@www.hiller.org
SUMMARY:Today’s Schedule 10:00 - 5:30
DESCRIPTION:The Hiller Aviation Daily Schedule\nThe Hiller Aviation Museum is open daily from 10 AM to 5:30 PM June 9 – August 15. \nThe Museum is closed on Easter Sunday\, Independence Day\, Thanksgiving Day\, and Christmas Day. And for other special events.
URL:https://www.hiller.org/event/todays-schedule-10-530-8-2/2025-07-14/
LOCATION:Hiller Aviation Museum\, 601 Skyway Rd.\, San Carlos\, 94070\, United States
CATEGORIES:Today's Schedule
END:VEVENT
BEGIN:VEVENT
DTSTART;TZID=America/Los_Angeles:20250715T100000
DTEND;TZID=America/Los_Angeles:20250715T173000
DTSTAMP:20260421T100322
CREATED:20250707T191618Z
LAST-MODIFIED:20250707T191621Z
UID:10015119-1752573600-1752600600@www.hiller.org
SUMMARY:Today’s Schedule 10:00 - 5:30
DESCRIPTION:The Hiller Aviation Daily Schedule\nThe Hiller Aviation Museum is open daily from 10 AM to 5:30 PM June 9 – August 15. \nThe Museum is closed on Easter Sunday\, Independence Day\, Thanksgiving Day\, and Christmas Day. And for other special events.
URL:https://www.hiller.org/event/todays-schedule-10-530-8-2/2025-07-15/
LOCATION:Hiller Aviation Museum\, 601 Skyway Rd.\, San Carlos\, 94070\, United States
CATEGORIES:Today's Schedule
END:VEVENT
BEGIN:VEVENT
DTSTART;TZID=America/Los_Angeles:20250716T100000
DTEND;TZID=America/Los_Angeles:20250716T173000
DTSTAMP:20260421T100322
CREATED:20250707T191618Z
LAST-MODIFIED:20250707T191621Z
UID:10015120-1752660000-1752687000@www.hiller.org
SUMMARY:Today’s Schedule 10:00 - 5:30
DESCRIPTION:The Hiller Aviation Daily Schedule\nThe Hiller Aviation Museum is open daily from 10 AM to 5:30 PM June 9 – August 15. \nThe Museum is closed on Easter Sunday\, Independence Day\, Thanksgiving Day\, and Christmas Day. And for other special events.
URL:https://www.hiller.org/event/todays-schedule-10-530-8-2/2025-07-16/
LOCATION:Hiller Aviation Museum\, 601 Skyway Rd.\, San Carlos\, 94070\, United States
CATEGORIES:Today's Schedule
END:VEVENT
BEGIN:VEVENT
DTSTART;TZID=America/Los_Angeles:20250717T100000
DTEND;TZID=America/Los_Angeles:20250717T173000
DTSTAMP:20260421T100322
CREATED:20250707T191618Z
LAST-MODIFIED:20250707T191621Z
UID:10015121-1752746400-1752773400@www.hiller.org
SUMMARY:Today’s Schedule 10:00 - 5:30
DESCRIPTION:The Hiller Aviation Daily Schedule\nThe Hiller Aviation Museum is open daily from 10 AM to 5:30 PM June 9 – August 15. \nThe Museum is closed on Easter Sunday\, Independence Day\, Thanksgiving Day\, and Christmas Day. And for other special events.
URL:https://www.hiller.org/event/todays-schedule-10-530-8-2/2025-07-17/
LOCATION:Hiller Aviation Museum\, 601 Skyway Rd.\, San Carlos\, 94070\, United States
CATEGORIES:Today's Schedule
END:VEVENT
BEGIN:VEVENT
DTSTART;TZID=America/Los_Angeles:20250718T100000
DTEND;TZID=America/Los_Angeles:20250718T173000
DTSTAMP:20260421T100322
CREATED:20250707T191618Z
LAST-MODIFIED:20250707T191621Z
UID:10015122-1752832800-1752859800@www.hiller.org
SUMMARY:Today’s Schedule 10:00 - 5:30
DESCRIPTION:The Hiller Aviation Daily Schedule\nThe Hiller Aviation Museum is open daily from 10 AM to 5:30 PM June 9 – August 15. \nThe Museum is closed on Easter Sunday\, Independence Day\, Thanksgiving Day\, and Christmas Day. And for other special events.
URL:https://www.hiller.org/event/todays-schedule-10-530-8-2/2025-07-18/
LOCATION:Hiller Aviation Museum\, 601 Skyway Rd.\, San Carlos\, 94070\, United States
CATEGORIES:Today's Schedule
END:VEVENT
BEGIN:VEVENT
DTSTART;TZID=America/Los_Angeles:20250720T100000
DTEND;TZID=America/Los_Angeles:20250720T173000
DTSTAMP:20260421T100322
CREATED:20250707T191618Z
LAST-MODIFIED:20250707T191621Z
UID:10015123-1753005600-1753032600@www.hiller.org
SUMMARY:Today’s Schedule 10:00 - 5:30
DESCRIPTION:The Hiller Aviation Daily Schedule\nThe Hiller Aviation Museum is open daily from 10 AM to 5:30 PM June 9 – August 15. \nThe Museum is closed on Easter Sunday\, Independence Day\, Thanksgiving Day\, and Christmas Day. And for other special events.
URL:https://www.hiller.org/event/todays-schedule-10-530-8-2/2025-07-20/
LOCATION:Hiller Aviation Museum\, 601 Skyway Rd.\, San Carlos\, 94070\, United States
CATEGORIES:Today's Schedule
END:VEVENT
BEGIN:VEVENT
DTSTART;TZID=America/Los_Angeles:20250721T100000
DTEND;TZID=America/Los_Angeles:20250721T173000
DTSTAMP:20260421T100322
CREATED:20250707T191618Z
LAST-MODIFIED:20250707T191621Z
UID:10015124-1753092000-1753119000@www.hiller.org
SUMMARY:Today’s Schedule 10:00 - 5:30
DESCRIPTION:The Hiller Aviation Daily Schedule\nThe Hiller Aviation Museum is open daily from 10 AM to 5:30 PM June 9 – August 15. \nThe Museum is closed on Easter Sunday\, Independence Day\, Thanksgiving Day\, and Christmas Day. And for other special events.
URL:https://www.hiller.org/event/todays-schedule-10-530-8-2/2025-07-21/
LOCATION:Hiller Aviation Museum\, 601 Skyway Rd.\, San Carlos\, 94070\, United States
CATEGORIES:Today's Schedule
END:VEVENT
BEGIN:VEVENT
DTSTART;TZID=America/Los_Angeles:20250722T100000
DTEND;TZID=America/Los_Angeles:20250722T173000
DTSTAMP:20260421T100322
CREATED:20250707T191618Z
LAST-MODIFIED:20250707T191621Z
UID:10015125-1753178400-1753205400@www.hiller.org
SUMMARY:Today’s Schedule 10:00 - 5:30
DESCRIPTION:The Hiller Aviation Daily Schedule\nThe Hiller Aviation Museum is open daily from 10 AM to 5:30 PM June 9 – August 15. \nThe Museum is closed on Easter Sunday\, Independence Day\, Thanksgiving Day\, and Christmas Day. And for other special events.
URL:https://www.hiller.org/event/todays-schedule-10-530-8-2/2025-07-22/
LOCATION:Hiller Aviation Museum\, 601 Skyway Rd.\, San Carlos\, 94070\, United States
CATEGORIES:Today's Schedule
END:VEVENT
BEGIN:VEVENT
DTSTART;TZID=America/Los_Angeles:20250723T100000
DTEND;TZID=America/Los_Angeles:20250723T173000
DTSTAMP:20260421T100322
CREATED:20250707T191618Z
LAST-MODIFIED:20250707T191621Z
UID:10015126-1753264800-1753291800@www.hiller.org
SUMMARY:Today’s Schedule 10:00 - 5:30
DESCRIPTION:The Hiller Aviation Daily Schedule\nThe Hiller Aviation Museum is open daily from 10 AM to 5:30 PM June 9 – August 15. \nThe Museum is closed on Easter Sunday\, Independence Day\, Thanksgiving Day\, and Christmas Day. And for other special events.
URL:https://www.hiller.org/event/todays-schedule-10-530-8-2/2025-07-23/
LOCATION:Hiller Aviation Museum\, 601 Skyway Rd.\, San Carlos\, 94070\, United States
CATEGORIES:Today's Schedule
END:VEVENT
BEGIN:VEVENT
DTSTART;TZID=America/Los_Angeles:20250724T100000
DTEND;TZID=America/Los_Angeles:20250724T173000
DTSTAMP:20260421T100322
CREATED:20250707T191618Z
LAST-MODIFIED:20250707T191621Z
UID:10015127-1753351200-1753378200@www.hiller.org
SUMMARY:Today’s Schedule 10:00 - 5:30
DESCRIPTION:The Hiller Aviation Daily Schedule\nThe Hiller Aviation Museum is open daily from 10 AM to 5:30 PM June 9 – August 15. \nThe Museum is closed on Easter Sunday\, Independence Day\, Thanksgiving Day\, and Christmas Day. And for other special events.
URL:https://www.hiller.org/event/todays-schedule-10-530-8-2/2025-07-24/
LOCATION:Hiller Aviation Museum\, 601 Skyway Rd.\, San Carlos\, 94070\, United States
CATEGORIES:Today's Schedule
END:VEVENT
BEGIN:VEVENT
DTSTART;TZID=America/Los_Angeles:20250725T100000
DTEND;TZID=America/Los_Angeles:20250725T173000
DTSTAMP:20260421T100322
CREATED:20250707T191618Z
LAST-MODIFIED:20250707T191621Z
UID:10015128-1753437600-1753464600@www.hiller.org
SUMMARY:Today’s Schedule 10:00 - 5:30
DESCRIPTION:The Hiller Aviation Daily Schedule\nThe Hiller Aviation Museum is open daily from 10 AM to 5:30 PM June 9 – August 15. \nThe Museum is closed on Easter Sunday\, Independence Day\, Thanksgiving Day\, and Christmas Day. And for other special events.
URL:https://www.hiller.org/event/todays-schedule-10-530-8-2/2025-07-25/
LOCATION:Hiller Aviation Museum\, 601 Skyway Rd.\, San Carlos\, 94070\, United States
CATEGORIES:Today's Schedule
END:VEVENT
BEGIN:VEVENT
DTSTART;TZID=America/Los_Angeles:20250727T100000
DTEND;TZID=America/Los_Angeles:20250727T173000
DTSTAMP:20260421T100322
CREATED:20250707T191618Z
LAST-MODIFIED:20250707T191621Z
UID:10015130-1753610400-1753637400@www.hiller.org
SUMMARY:Today’s Schedule 10:00 - 5:30
DESCRIPTION:The Hiller Aviation Daily Schedule\nThe Hiller Aviation Museum is open daily from 10 AM to 5:30 PM June 9 – August 15. \nThe Museum is closed on Easter Sunday\, Independence Day\, Thanksgiving Day\, and Christmas Day. And for other special events.
URL:https://www.hiller.org/event/todays-schedule-10-530-8-2/2025-07-27/
LOCATION:Hiller Aviation Museum\, 601 Skyway Rd.\, San Carlos\, 94070\, United States
CATEGORIES:Today's Schedule
END:VEVENT
BEGIN:VEVENT
DTSTART;TZID=America/Los_Angeles:20250728T100000
DTEND;TZID=America/Los_Angeles:20250728T173000
DTSTAMP:20260421T100322
CREATED:20250707T191618Z
LAST-MODIFIED:20250707T191621Z
UID:10015131-1753696800-1753723800@www.hiller.org
SUMMARY:Today’s Schedule 10:00 - 5:30
DESCRIPTION:The Hiller Aviation Daily Schedule\nThe Hiller Aviation Museum is open daily from 10 AM to 5:30 PM June 9 – August 15. \nThe Museum is closed on Easter Sunday\, Independence Day\, Thanksgiving Day\, and Christmas Day. And for other special events.
URL:https://www.hiller.org/event/todays-schedule-10-530-8-2/2025-07-28/
LOCATION:Hiller Aviation Museum\, 601 Skyway Rd.\, San Carlos\, 94070\, United States
CATEGORIES:Today's Schedule
END:VEVENT
BEGIN:VEVENT
DTSTART;TZID=America/Los_Angeles:20250729T100000
DTEND;TZID=America/Los_Angeles:20250729T173000
DTSTAMP:20260421T100322
CREATED:20250707T191618Z
LAST-MODIFIED:20250707T191621Z
UID:10015132-1753783200-1753810200@www.hiller.org
SUMMARY:Today’s Schedule 10:00 - 5:30
DESCRIPTION:The Hiller Aviation Daily Schedule\nThe Hiller Aviation Museum is open daily from 10 AM to 5:30 PM June 9 – August 15. \nThe Museum is closed on Easter Sunday\, Independence Day\, Thanksgiving Day\, and Christmas Day. And for other special events.
URL:https://www.hiller.org/event/todays-schedule-10-530-8-2/2025-07-29/
LOCATION:Hiller Aviation Museum\, 601 Skyway Rd.\, San Carlos\, 94070\, United States
CATEGORIES:Today's Schedule
END:VEVENT
BEGIN:VEVENT
DTSTART;TZID=America/Los_Angeles:20250731T100000
DTEND;TZID=America/Los_Angeles:20250731T173000
DTSTAMP:20260421T100322
CREATED:20250707T191618Z
LAST-MODIFIED:20250707T191621Z
UID:10015133-1753956000-1753983000@www.hiller.org
SUMMARY:Today’s Schedule 10:00 - 5:30
DESCRIPTION:The Hiller Aviation Daily Schedule\nThe Hiller Aviation Museum is open daily from 10 AM to 5:30 PM June 9 – August 15. \nThe Museum is closed on Easter Sunday\, Independence Day\, Thanksgiving Day\, and Christmas Day. And for other special events.
URL:https://www.hiller.org/event/todays-schedule-10-530-8-2/2025-07-31/
LOCATION:Hiller Aviation Museum\, 601 Skyway Rd.\, San Carlos\, 94070\, United States
CATEGORIES:Today's Schedule
END:VEVENT
END:VCALENDAR