BEGIN:VCALENDAR
VERSION:2.0
PRODID:-//Hiller Aviation Museum - ECPv6.15.20//NONSGML v1.0//EN
CALSCALE:GREGORIAN
METHOD:PUBLISH
X-WR-CALNAME:Hiller Aviation Museum
X-ORIGINAL-URL:https://www.hiller.org
X-WR-CALDESC:Events for Hiller Aviation Museum
REFRESH-INTERVAL;VALUE=DURATION:PT1H
X-Robots-Tag:noindex
X-PUBLISHED-TTL:PT1H
BEGIN:VTIMEZONE
TZID:America/Los_Angeles
BEGIN:DAYLIGHT
TZOFFSETFROM:-0800
TZOFFSETTO:-0700
TZNAME:PDT
DTSTART:20250309T100000
END:DAYLIGHT
BEGIN:STANDARD
TZOFFSETFROM:-0700
TZOFFSETTO:-0800
TZNAME:PST
DTSTART:20251102T090000
END:STANDARD
BEGIN:DAYLIGHT
TZOFFSETFROM:-0800
TZOFFSETTO:-0700
TZNAME:PDT
DTSTART:20260308T100000
END:DAYLIGHT
BEGIN:STANDARD
TZOFFSETFROM:-0700
TZOFFSETTO:-0800
TZNAME:PST
DTSTART:20261101T090000
END:STANDARD
BEGIN:DAYLIGHT
TZOFFSETFROM:-0800
TZOFFSETTO:-0700
TZNAME:PDT
DTSTART:20270314T100000
END:DAYLIGHT
BEGIN:STANDARD
TZOFFSETFROM:-0700
TZOFFSETTO:-0800
TZNAME:PST
DTSTART:20271107T090000
END:STANDARD
END:VTIMEZONE
BEGIN:VEVENT
DTSTART;TZID=America/Los_Angeles:20260501T100000
DTEND;TZID=America/Los_Angeles:20260501T170000
DTSTAMP:20260423T200702
CREATED:20250802T144732Z
LAST-MODIFIED:20260415T211618Z
UID:10015433-1777629600-1777654800@www.hiller.org
SUMMARY:Today’s Schedule 10-5
DESCRIPTION:The Hiller Aviation Daily Schedule\nThe Hiller Aviation Museum is open daily from 10 AM to 5 PM. \nThe Museum is closed on Easter Sunday\, Independence Day\, Thanksgiving Day\, and Christmas Day. And for other special events.
URL:https://www.hiller.org/event/todays-schedule-10-5-2-2-2/2026-05-01/
LOCATION:Hiller Aviation Museum\, 601 Skyway Rd.\, San Carlos\, 94070\, United States
CATEGORIES:Today's Schedule
END:VEVENT
BEGIN:VEVENT
DTSTART;TZID=America/Los_Angeles:20260502T100000
DTEND;TZID=America/Los_Angeles:20260502T170000
DTSTAMP:20260423T200702
CREATED:20250802T144732Z
LAST-MODIFIED:20260415T211618Z
UID:10015434-1777716000-1777741200@www.hiller.org
SUMMARY:Today’s Schedule 10-5
DESCRIPTION:The Hiller Aviation Daily Schedule\nThe Hiller Aviation Museum is open daily from 10 AM to 5 PM. \nThe Museum is closed on Easter Sunday\, Independence Day\, Thanksgiving Day\, and Christmas Day. And for other special events.
URL:https://www.hiller.org/event/todays-schedule-10-5-2-2-2/2026-05-02/
LOCATION:Hiller Aviation Museum\, 601 Skyway Rd.\, San Carlos\, 94070\, United States
CATEGORIES:Today's Schedule
END:VEVENT
BEGIN:VEVENT
DTSTART;TZID=America/Los_Angeles:20260503T100000
DTEND;TZID=America/Los_Angeles:20260503T170000
DTSTAMP:20260423T200702
CREATED:20250802T144732Z
LAST-MODIFIED:20260415T211618Z
UID:10015435-1777802400-1777827600@www.hiller.org
SUMMARY:Today’s Schedule 10-5
DESCRIPTION:The Hiller Aviation Daily Schedule\nThe Hiller Aviation Museum is open daily from 10 AM to 5 PM. \nThe Museum is closed on Easter Sunday\, Independence Day\, Thanksgiving Day\, and Christmas Day. And for other special events.
URL:https://www.hiller.org/event/todays-schedule-10-5-2-2-2/2026-05-03/
LOCATION:Hiller Aviation Museum\, 601 Skyway Rd.\, San Carlos\, 94070\, United States
CATEGORIES:Today's Schedule
END:VEVENT
BEGIN:VEVENT
DTSTART;TZID=America/Los_Angeles:20260504T100000
DTEND;TZID=America/Los_Angeles:20260504T170000
DTSTAMP:20260423T200702
CREATED:20250802T144732Z
LAST-MODIFIED:20260415T211618Z
UID:10015436-1777888800-1777914000@www.hiller.org
SUMMARY:Today’s Schedule 10-5
DESCRIPTION:The Hiller Aviation Daily Schedule\nThe Hiller Aviation Museum is open daily from 10 AM to 5 PM. \nThe Museum is closed on Easter Sunday\, Independence Day\, Thanksgiving Day\, and Christmas Day. And for other special events.
URL:https://www.hiller.org/event/todays-schedule-10-5-2-2-2/2026-05-04/
LOCATION:Hiller Aviation Museum\, 601 Skyway Rd.\, San Carlos\, 94070\, United States
CATEGORIES:Today's Schedule
END:VEVENT
BEGIN:VEVENT
DTSTART;TZID=America/Los_Angeles:20260505T100000
DTEND;TZID=America/Los_Angeles:20260505T170000
DTSTAMP:20260423T200702
CREATED:20250802T144732Z
LAST-MODIFIED:20260415T211618Z
UID:10015437-1777975200-1778000400@www.hiller.org
SUMMARY:Today’s Schedule 10-5
DESCRIPTION:The Hiller Aviation Daily Schedule\nThe Hiller Aviation Museum is open daily from 10 AM to 5 PM. \nThe Museum is closed on Easter Sunday\, Independence Day\, Thanksgiving Day\, and Christmas Day. And for other special events.
URL:https://www.hiller.org/event/todays-schedule-10-5-2-2-2/2026-05-05/
LOCATION:Hiller Aviation Museum\, 601 Skyway Rd.\, San Carlos\, 94070\, United States
CATEGORIES:Today's Schedule
END:VEVENT
BEGIN:VEVENT
DTSTART;TZID=America/Los_Angeles:20260506T100000
DTEND;TZID=America/Los_Angeles:20260506T160000
DTSTAMP:20260423T200702
CREATED:20250311T002609Z
LAST-MODIFIED:20260415T212120Z
UID:10016520-1778061600-1778083200@www.hiller.org
SUMMARY:Today’s Schedule 10-4
DESCRIPTION:The Hiller Aviation Daily Schedule\nThe Hiller Aviation Museum is open daily from 10 AM to 4 PM. \nThe Museum is closed on Easter Sunday\, Independence Day\, Thanksgiving Day\, and Christmas Day. And for other special events.
URL:https://www.hiller.org/event/todays-schedule-10-5-5/2026-05-06/
LOCATION:Hiller Aviation Museum\, 601 Skyway Rd.\, San Carlos\, 94070\, United States
CATEGORIES:Today's Schedule
END:VEVENT
BEGIN:VEVENT
DTSTART;TZID=America/Los_Angeles:20260507T100000
DTEND;TZID=America/Los_Angeles:20260507T170000
DTSTAMP:20260423T200702
CREATED:20250802T144732Z
LAST-MODIFIED:20260415T211618Z
UID:10015439-1778148000-1778173200@www.hiller.org
SUMMARY:Today’s Schedule 10-5
DESCRIPTION:The Hiller Aviation Daily Schedule\nThe Hiller Aviation Museum is open daily from 10 AM to 5 PM. \nThe Museum is closed on Easter Sunday\, Independence Day\, Thanksgiving Day\, and Christmas Day. And for other special events.
URL:https://www.hiller.org/event/todays-schedule-10-5-2-2-2/2026-05-07/
LOCATION:Hiller Aviation Museum\, 601 Skyway Rd.\, San Carlos\, 94070\, United States
CATEGORIES:Today's Schedule
END:VEVENT
BEGIN:VEVENT
DTSTART;TZID=America/Los_Angeles:20260508T100000
DTEND;TZID=America/Los_Angeles:20260508T170000
DTSTAMP:20260423T200702
CREATED:20250802T144732Z
LAST-MODIFIED:20260415T211618Z
UID:10015440-1778234400-1778259600@www.hiller.org
SUMMARY:Today’s Schedule 10-5
DESCRIPTION:The Hiller Aviation Daily Schedule\nThe Hiller Aviation Museum is open daily from 10 AM to 5 PM. \nThe Museum is closed on Easter Sunday\, Independence Day\, Thanksgiving Day\, and Christmas Day. And for other special events.
URL:https://www.hiller.org/event/todays-schedule-10-5-2-2-2/2026-05-08/
LOCATION:Hiller Aviation Museum\, 601 Skyway Rd.\, San Carlos\, 94070\, United States
CATEGORIES:Today's Schedule
END:VEVENT
BEGIN:VEVENT
DTSTART;TZID=America/Los_Angeles:20260509T100000
DTEND;TZID=America/Los_Angeles:20260509T170000
DTSTAMP:20260423T200702
CREATED:20250802T144732Z
LAST-MODIFIED:20260415T211618Z
UID:10015441-1778320800-1778346000@www.hiller.org
SUMMARY:Today’s Schedule 10-5
DESCRIPTION:The Hiller Aviation Daily Schedule\nThe Hiller Aviation Museum is open daily from 10 AM to 5 PM. \nThe Museum is closed on Easter Sunday\, Independence Day\, Thanksgiving Day\, and Christmas Day. And for other special events.
URL:https://www.hiller.org/event/todays-schedule-10-5-2-2-2/2026-05-09/
LOCATION:Hiller Aviation Museum\, 601 Skyway Rd.\, San Carlos\, 94070\, United States
CATEGORIES:Today's Schedule
END:VEVENT
BEGIN:VEVENT
DTSTART;TZID=America/Los_Angeles:20260510T100000
DTEND;TZID=America/Los_Angeles:20260510T170000
DTSTAMP:20260423T200702
CREATED:20250802T144732Z
LAST-MODIFIED:20260415T211618Z
UID:10015442-1778407200-1778432400@www.hiller.org
SUMMARY:Today’s Schedule 10-5
DESCRIPTION:The Hiller Aviation Daily Schedule\nThe Hiller Aviation Museum is open daily from 10 AM to 5 PM. \nThe Museum is closed on Easter Sunday\, Independence Day\, Thanksgiving Day\, and Christmas Day. And for other special events.
URL:https://www.hiller.org/event/todays-schedule-10-5-2-2-2/2026-05-10/
LOCATION:Hiller Aviation Museum\, 601 Skyway Rd.\, San Carlos\, 94070\, United States
CATEGORIES:Today's Schedule
END:VEVENT
BEGIN:VEVENT
DTSTART;TZID=America/Los_Angeles:20260511T100000
DTEND;TZID=America/Los_Angeles:20260511T170000
DTSTAMP:20260423T200702
CREATED:20250802T144732Z
LAST-MODIFIED:20260415T211618Z
UID:10015443-1778493600-1778518800@www.hiller.org
SUMMARY:Today’s Schedule 10-5
DESCRIPTION:The Hiller Aviation Daily Schedule\nThe Hiller Aviation Museum is open daily from 10 AM to 5 PM. \nThe Museum is closed on Easter Sunday\, Independence Day\, Thanksgiving Day\, and Christmas Day. And for other special events.
URL:https://www.hiller.org/event/todays-schedule-10-5-2-2-2/2026-05-11/
LOCATION:Hiller Aviation Museum\, 601 Skyway Rd.\, San Carlos\, 94070\, United States
CATEGORIES:Today's Schedule
END:VEVENT
BEGIN:VEVENT
DTSTART;TZID=America/Los_Angeles:20260512T100000
DTEND;TZID=America/Los_Angeles:20260512T170000
DTSTAMP:20260423T200702
CREATED:20250802T144732Z
LAST-MODIFIED:20260415T211618Z
UID:10015444-1778580000-1778605200@www.hiller.org
SUMMARY:Today’s Schedule 10-5
DESCRIPTION:The Hiller Aviation Daily Schedule\nThe Hiller Aviation Museum is open daily from 10 AM to 5 PM. \nThe Museum is closed on Easter Sunday\, Independence Day\, Thanksgiving Day\, and Christmas Day. And for other special events.
URL:https://www.hiller.org/event/todays-schedule-10-5-2-2-2/2026-05-12/
LOCATION:Hiller Aviation Museum\, 601 Skyway Rd.\, San Carlos\, 94070\, United States
CATEGORIES:Today's Schedule
END:VEVENT
BEGIN:VEVENT
DTSTART;TZID=America/Los_Angeles:20260513T100000
DTEND;TZID=America/Los_Angeles:20260513T170000
DTSTAMP:20260423T200702
CREATED:20250802T144732Z
LAST-MODIFIED:20260415T211618Z
UID:10015445-1778666400-1778691600@www.hiller.org
SUMMARY:Today’s Schedule 10-5
DESCRIPTION:The Hiller Aviation Daily Schedule\nThe Hiller Aviation Museum is open daily from 10 AM to 5 PM. \nThe Museum is closed on Easter Sunday\, Independence Day\, Thanksgiving Day\, and Christmas Day. And for other special events.
URL:https://www.hiller.org/event/todays-schedule-10-5-2-2-2/2026-05-13/
LOCATION:Hiller Aviation Museum\, 601 Skyway Rd.\, San Carlos\, 94070\, United States
CATEGORIES:Today's Schedule
END:VEVENT
BEGIN:VEVENT
DTSTART;TZID=America/Los_Angeles:20260514T100000
DTEND;TZID=America/Los_Angeles:20260514T170000
DTSTAMP:20260423T200702
CREATED:20250802T144732Z
LAST-MODIFIED:20260415T211618Z
UID:10015446-1778752800-1778778000@www.hiller.org
SUMMARY:Today’s Schedule 10-5
DESCRIPTION:The Hiller Aviation Daily Schedule\nThe Hiller Aviation Museum is open daily from 10 AM to 5 PM. \nThe Museum is closed on Easter Sunday\, Independence Day\, Thanksgiving Day\, and Christmas Day. And for other special events.
URL:https://www.hiller.org/event/todays-schedule-10-5-2-2-2/2026-05-14/
LOCATION:Hiller Aviation Museum\, 601 Skyway Rd.\, San Carlos\, 94070\, United States
CATEGORIES:Today's Schedule
END:VEVENT
BEGIN:VEVENT
DTSTART;TZID=America/Los_Angeles:20260515T100000
DTEND;TZID=America/Los_Angeles:20260515T170000
DTSTAMP:20260423T200702
CREATED:20250802T144732Z
LAST-MODIFIED:20260415T211618Z
UID:10015447-1778839200-1778864400@www.hiller.org
SUMMARY:Today’s Schedule 10-5
DESCRIPTION:The Hiller Aviation Daily Schedule\nThe Hiller Aviation Museum is open daily from 10 AM to 5 PM. \nThe Museum is closed on Easter Sunday\, Independence Day\, Thanksgiving Day\, and Christmas Day. And for other special events.
URL:https://www.hiller.org/event/todays-schedule-10-5-2-2-2/2026-05-15/
LOCATION:Hiller Aviation Museum\, 601 Skyway Rd.\, San Carlos\, 94070\, United States
CATEGORIES:Today's Schedule
END:VEVENT
BEGIN:VEVENT
DTSTART;TZID=America/Los_Angeles:20260516T100000
DTEND;TZID=America/Los_Angeles:20260516T170000
DTSTAMP:20260423T200702
CREATED:20250802T144732Z
LAST-MODIFIED:20260415T211618Z
UID:10015448-1778925600-1778950800@www.hiller.org
SUMMARY:Today’s Schedule 10-5
DESCRIPTION:The Hiller Aviation Daily Schedule\nThe Hiller Aviation Museum is open daily from 10 AM to 5 PM. \nThe Museum is closed on Easter Sunday\, Independence Day\, Thanksgiving Day\, and Christmas Day. And for other special events.
URL:https://www.hiller.org/event/todays-schedule-10-5-2-2-2/2026-05-16/
LOCATION:Hiller Aviation Museum\, 601 Skyway Rd.\, San Carlos\, 94070\, United States
CATEGORIES:Today's Schedule
END:VEVENT
BEGIN:VEVENT
DTSTART;TZID=America/Los_Angeles:20260517T100000
DTEND;TZID=America/Los_Angeles:20260517T170000
DTSTAMP:20260423T200702
CREATED:20250802T144732Z
LAST-MODIFIED:20260415T211618Z
UID:10015449-1779012000-1779037200@www.hiller.org
SUMMARY:Today’s Schedule 10-5
DESCRIPTION:The Hiller Aviation Daily Schedule\nThe Hiller Aviation Museum is open daily from 10 AM to 5 PM. \nThe Museum is closed on Easter Sunday\, Independence Day\, Thanksgiving Day\, and Christmas Day. And for other special events.
URL:https://www.hiller.org/event/todays-schedule-10-5-2-2-2/2026-05-17/
LOCATION:Hiller Aviation Museum\, 601 Skyway Rd.\, San Carlos\, 94070\, United States
CATEGORIES:Today's Schedule
END:VEVENT
BEGIN:VEVENT
DTSTART;TZID=America/Los_Angeles:20260518T100000
DTEND;TZID=America/Los_Angeles:20260518T170000
DTSTAMP:20260423T200702
CREATED:20250802T144732Z
LAST-MODIFIED:20260415T211618Z
UID:10015450-1779098400-1779123600@www.hiller.org
SUMMARY:Today’s Schedule 10-5
DESCRIPTION:The Hiller Aviation Daily Schedule\nThe Hiller Aviation Museum is open daily from 10 AM to 5 PM. \nThe Museum is closed on Easter Sunday\, Independence Day\, Thanksgiving Day\, and Christmas Day. And for other special events.
URL:https://www.hiller.org/event/todays-schedule-10-5-2-2-2/2026-05-18/
LOCATION:Hiller Aviation Museum\, 601 Skyway Rd.\, San Carlos\, 94070\, United States
CATEGORIES:Today's Schedule
END:VEVENT
BEGIN:VEVENT
DTSTART;TZID=America/Los_Angeles:20260519T100000
DTEND;TZID=America/Los_Angeles:20260519T170000
DTSTAMP:20260423T200702
CREATED:20250802T144732Z
LAST-MODIFIED:20260415T211618Z
UID:10015451-1779184800-1779210000@www.hiller.org
SUMMARY:Today’s Schedule 10-5
DESCRIPTION:The Hiller Aviation Daily Schedule\nThe Hiller Aviation Museum is open daily from 10 AM to 5 PM. \nThe Museum is closed on Easter Sunday\, Independence Day\, Thanksgiving Day\, and Christmas Day. And for other special events.
URL:https://www.hiller.org/event/todays-schedule-10-5-2-2-2/2026-05-19/
LOCATION:Hiller Aviation Museum\, 601 Skyway Rd.\, San Carlos\, 94070\, United States
CATEGORIES:Today's Schedule
END:VEVENT
BEGIN:VEVENT
DTSTART;TZID=America/Los_Angeles:20260520T100000
DTEND;TZID=America/Los_Angeles:20260520T170000
DTSTAMP:20260423T200702
CREATED:20250802T144732Z
LAST-MODIFIED:20260415T211618Z
UID:10015452-1779271200-1779296400@www.hiller.org
SUMMARY:Today’s Schedule 10-5
DESCRIPTION:The Hiller Aviation Daily Schedule\nThe Hiller Aviation Museum is open daily from 10 AM to 5 PM. \nThe Museum is closed on Easter Sunday\, Independence Day\, Thanksgiving Day\, and Christmas Day. And for other special events.
URL:https://www.hiller.org/event/todays-schedule-10-5-2-2-2/2026-05-20/
LOCATION:Hiller Aviation Museum\, 601 Skyway Rd.\, San Carlos\, 94070\, United States
CATEGORIES:Today's Schedule
END:VEVENT
BEGIN:VEVENT
DTSTART;TZID=America/Los_Angeles:20260521T100000
DTEND;TZID=America/Los_Angeles:20260521T170000
DTSTAMP:20260423T200702
CREATED:20250802T144732Z
LAST-MODIFIED:20260415T211618Z
UID:10015453-1779357600-1779382800@www.hiller.org
SUMMARY:Today’s Schedule 10-5
DESCRIPTION:The Hiller Aviation Daily Schedule\nThe Hiller Aviation Museum is open daily from 10 AM to 5 PM. \nThe Museum is closed on Easter Sunday\, Independence Day\, Thanksgiving Day\, and Christmas Day. And for other special events.
URL:https://www.hiller.org/event/todays-schedule-10-5-2-2-2/2026-05-21/
LOCATION:Hiller Aviation Museum\, 601 Skyway Rd.\, San Carlos\, 94070\, United States
CATEGORIES:Today's Schedule
END:VEVENT
BEGIN:VEVENT
DTSTART;TZID=America/Los_Angeles:20260522T100000
DTEND;TZID=America/Los_Angeles:20260522T170000
DTSTAMP:20260423T200702
CREATED:20250802T144732Z
LAST-MODIFIED:20260415T211618Z
UID:10015454-1779444000-1779469200@www.hiller.org
SUMMARY:Today’s Schedule 10-5
DESCRIPTION:The Hiller Aviation Daily Schedule\nThe Hiller Aviation Museum is open daily from 10 AM to 5 PM. \nThe Museum is closed on Easter Sunday\, Independence Day\, Thanksgiving Day\, and Christmas Day. And for other special events.
URL:https://www.hiller.org/event/todays-schedule-10-5-2-2-2/2026-05-22/
LOCATION:Hiller Aviation Museum\, 601 Skyway Rd.\, San Carlos\, 94070\, United States
CATEGORIES:Today's Schedule
END:VEVENT
BEGIN:VEVENT
DTSTART;TZID=America/Los_Angeles:20260523T100000
DTEND;TZID=America/Los_Angeles:20260523T170000
DTSTAMP:20260423T200702
CREATED:20250802T144732Z
LAST-MODIFIED:20260415T211618Z
UID:10015455-1779530400-1779555600@www.hiller.org
SUMMARY:Today’s Schedule 10-5
DESCRIPTION:The Hiller Aviation Daily Schedule\nThe Hiller Aviation Museum is open daily from 10 AM to 5 PM. \nThe Museum is closed on Easter Sunday\, Independence Day\, Thanksgiving Day\, and Christmas Day. And for other special events.
URL:https://www.hiller.org/event/todays-schedule-10-5-2-2-2/2026-05-23/
LOCATION:Hiller Aviation Museum\, 601 Skyway Rd.\, San Carlos\, 94070\, United States
CATEGORIES:Today's Schedule
END:VEVENT
BEGIN:VEVENT
DTSTART;TZID=America/Los_Angeles:20260524T100000
DTEND;TZID=America/Los_Angeles:20260524T170000
DTSTAMP:20260423T200702
CREATED:20250802T144732Z
LAST-MODIFIED:20260415T211618Z
UID:10015456-1779616800-1779642000@www.hiller.org
SUMMARY:Today’s Schedule 10-5
DESCRIPTION:The Hiller Aviation Daily Schedule\nThe Hiller Aviation Museum is open daily from 10 AM to 5 PM. \nThe Museum is closed on Easter Sunday\, Independence Day\, Thanksgiving Day\, and Christmas Day. And for other special events.
URL:https://www.hiller.org/event/todays-schedule-10-5-2-2-2/2026-05-24/
LOCATION:Hiller Aviation Museum\, 601 Skyway Rd.\, San Carlos\, 94070\, United States
CATEGORIES:Today's Schedule
END:VEVENT
BEGIN:VEVENT
DTSTART;TZID=America/Los_Angeles:20260525T100000
DTEND;TZID=America/Los_Angeles:20260525T170000
DTSTAMP:20260423T200702
CREATED:20250802T144732Z
LAST-MODIFIED:20260415T211618Z
UID:10015457-1779703200-1779728400@www.hiller.org
SUMMARY:Today’s Schedule 10-5
DESCRIPTION:The Hiller Aviation Daily Schedule\nThe Hiller Aviation Museum is open daily from 10 AM to 5 PM. \nThe Museum is closed on Easter Sunday\, Independence Day\, Thanksgiving Day\, and Christmas Day. And for other special events.
URL:https://www.hiller.org/event/todays-schedule-10-5-2-2-2/2026-05-25/
LOCATION:Hiller Aviation Museum\, 601 Skyway Rd.\, San Carlos\, 94070\, United States
CATEGORIES:Today's Schedule
END:VEVENT
BEGIN:VEVENT
DTSTART;TZID=America/Los_Angeles:20260526T100000
DTEND;TZID=America/Los_Angeles:20260526T170000
DTSTAMP:20260423T200702
CREATED:20250802T144732Z
LAST-MODIFIED:20260415T211618Z
UID:10015458-1779789600-1779814800@www.hiller.org
SUMMARY:Today’s Schedule 10-5
DESCRIPTION:The Hiller Aviation Daily Schedule\nThe Hiller Aviation Museum is open daily from 10 AM to 5 PM. \nThe Museum is closed on Easter Sunday\, Independence Day\, Thanksgiving Day\, and Christmas Day. And for other special events.
URL:https://www.hiller.org/event/todays-schedule-10-5-2-2-2/2026-05-26/
LOCATION:Hiller Aviation Museum\, 601 Skyway Rd.\, San Carlos\, 94070\, United States
CATEGORIES:Today's Schedule
END:VEVENT
BEGIN:VEVENT
DTSTART;TZID=America/Los_Angeles:20260527T100000
DTEND;TZID=America/Los_Angeles:20260527T170000
DTSTAMP:20260423T200702
CREATED:20250802T144732Z
LAST-MODIFIED:20260415T211618Z
UID:10015459-1779876000-1779901200@www.hiller.org
SUMMARY:Today’s Schedule 10-5
DESCRIPTION:The Hiller Aviation Daily Schedule\nThe Hiller Aviation Museum is open daily from 10 AM to 5 PM. \nThe Museum is closed on Easter Sunday\, Independence Day\, Thanksgiving Day\, and Christmas Day. And for other special events.
URL:https://www.hiller.org/event/todays-schedule-10-5-2-2-2/2026-05-27/
LOCATION:Hiller Aviation Museum\, 601 Skyway Rd.\, San Carlos\, 94070\, United States
CATEGORIES:Today's Schedule
END:VEVENT
BEGIN:VEVENT
DTSTART;TZID=America/Los_Angeles:20260528T100000
DTEND;TZID=America/Los_Angeles:20260528T170000
DTSTAMP:20260423T200702
CREATED:20250802T144732Z
LAST-MODIFIED:20260415T211618Z
UID:10015460-1779962400-1779987600@www.hiller.org
SUMMARY:Today’s Schedule 10-5
DESCRIPTION:The Hiller Aviation Daily Schedule\nThe Hiller Aviation Museum is open daily from 10 AM to 5 PM. \nThe Museum is closed on Easter Sunday\, Independence Day\, Thanksgiving Day\, and Christmas Day. And for other special events.
URL:https://www.hiller.org/event/todays-schedule-10-5-2-2-2/2026-05-28/
LOCATION:Hiller Aviation Museum\, 601 Skyway Rd.\, San Carlos\, 94070\, United States
CATEGORIES:Today's Schedule
END:VEVENT
BEGIN:VEVENT
DTSTART;TZID=America/Los_Angeles:20260529T100000
DTEND;TZID=America/Los_Angeles:20260529T170000
DTSTAMP:20260423T200702
CREATED:20250802T144732Z
LAST-MODIFIED:20260415T211618Z
UID:10015461-1780048800-1780074000@www.hiller.org
SUMMARY:Today’s Schedule 10-5
DESCRIPTION:The Hiller Aviation Daily Schedule\nThe Hiller Aviation Museum is open daily from 10 AM to 5 PM. \nThe Museum is closed on Easter Sunday\, Independence Day\, Thanksgiving Day\, and Christmas Day. And for other special events.
URL:https://www.hiller.org/event/todays-schedule-10-5-2-2-2/2026-05-29/
LOCATION:Hiller Aviation Museum\, 601 Skyway Rd.\, San Carlos\, 94070\, United States
CATEGORIES:Today's Schedule
END:VEVENT
BEGIN:VEVENT
DTSTART;TZID=America/Los_Angeles:20260530T100000
DTEND;TZID=America/Los_Angeles:20260530T170000
DTSTAMP:20260423T200702
CREATED:20250802T144732Z
LAST-MODIFIED:20260415T211618Z
UID:10015462-1780135200-1780160400@www.hiller.org
SUMMARY:Today’s Schedule 10-5
DESCRIPTION:The Hiller Aviation Daily Schedule\nThe Hiller Aviation Museum is open daily from 10 AM to 5 PM. \nThe Museum is closed on Easter Sunday\, Independence Day\, Thanksgiving Day\, and Christmas Day. And for other special events.
URL:https://www.hiller.org/event/todays-schedule-10-5-2-2-2/2026-05-30/
LOCATION:Hiller Aviation Museum\, 601 Skyway Rd.\, San Carlos\, 94070\, United States
CATEGORIES:Today's Schedule
END:VEVENT
END:VCALENDAR