BEGIN:VCALENDAR
VERSION:2.0
PRODID:-//Hiller Aviation Museum - ECPv6.15.20//NONSGML v1.0//EN
CALSCALE:GREGORIAN
METHOD:PUBLISH
X-WR-CALNAME:Hiller Aviation Museum
X-ORIGINAL-URL:https://www.hiller.org
X-WR-CALDESC:Events for Hiller Aviation Museum
REFRESH-INTERVAL;VALUE=DURATION:PT1H
X-Robots-Tag:noindex
X-PUBLISHED-TTL:PT1H
BEGIN:VTIMEZONE
TZID:America/Los_Angeles
BEGIN:DAYLIGHT
TZOFFSETFROM:-0800
TZOFFSETTO:-0700
TZNAME:PDT
DTSTART:20240310T100000
END:DAYLIGHT
BEGIN:STANDARD
TZOFFSETFROM:-0700
TZOFFSETTO:-0800
TZNAME:PST
DTSTART:20241103T090000
END:STANDARD
BEGIN:DAYLIGHT
TZOFFSETFROM:-0800
TZOFFSETTO:-0700
TZNAME:PDT
DTSTART:20250309T100000
END:DAYLIGHT
BEGIN:STANDARD
TZOFFSETFROM:-0700
TZOFFSETTO:-0800
TZNAME:PST
DTSTART:20251102T090000
END:STANDARD
BEGIN:DAYLIGHT
TZOFFSETFROM:-0800
TZOFFSETTO:-0700
TZNAME:PDT
DTSTART:20260308T100000
END:DAYLIGHT
BEGIN:STANDARD
TZOFFSETFROM:-0700
TZOFFSETTO:-0800
TZNAME:PST
DTSTART:20261101T090000
END:STANDARD
END:VTIMEZONE
BEGIN:VEVENT
DTSTART;TZID=America/Los_Angeles:20250301T110000
DTEND;TZID=America/Los_Angeles:20250301T123000
DTSTAMP:20260422T045632
CREATED:20250115T192854Z
LAST-MODIFIED:20250206T214634Z
UID:10014970-1740826800-1740832200@www.hiller.org
SUMMARY:Air Racing Exhibit Grand Opening
DESCRIPTION:Air Racing Grand Opening Event\nSaturday\, March 1\, 11 AM\nPanel Discussion and Ribbon Cutting\n			\n			\n				\n				\n				\n				\n			\n				\n				\n				\n				\n				\n				\n				\n				\n				\n				\n				Celebrate the grand opening of Air Racing at the Hiller Aviation Museum! This exciting new exhibit features displays from the Golden Age of Air Racing and the Reno Air Races.  Renowned air race pilots Vicky Benzing\, Justin Phillipson\, Dave Morss\, and Bruce Wallace join in a spirited panel discussion at 11 AM\, followed by the ceremonial ribbon cutting to formally open the new exhibit at 12 noon. Join us for a thrilling journey through air racing history and witness the evolution of the world’s fastest motor sport. \nWe’d like to thank the Benzing\, Mendonca\, Williamson families in addition to our invaluable restoration volunteers for their collaborative support to make this exhibit possible.
URL:https://www.hiller.org/event/air-racing/
LOCATION:Hiller Aviation Museum\, 601 Skyway Rd.\, San Carlos\, 94070\, United States
CATEGORIES:Event,Featured
ATTACH;FMTTYPE=image/jpeg:https://www.hiller.org/wp-content/uploads/Vicky-pylon.jpg
END:VEVENT
BEGIN:VEVENT
DTSTART;TZID=America/Los_Angeles:20250319T160000
DTEND;TZID=America/Los_Angeles:20250319T170000
DTSTAMP:20260422T045632
CREATED:20250308T002158Z
LAST-MODIFIED:20260415T212425Z
UID:10014973-1742400000-1742403600@www.hiller.org
SUMMARY:Museum Closes Early 4PM - Private Event
DESCRIPTION:The Hiller Museum closes today at 4PM for a private event.
URL:https://www.hiller.org/event/museum-closes-early-4pm-private-event/2025-03-19/
LOCATION:Hiller Aviation Museum\, 601 Skyway Rd.\, San Carlos\, 94070\, United States
CATEGORIES:Closed,Event
ATTACH;FMTTYPE=image/png:https://www.hiller.org/wp-content/uploads/Museum-Close-PE-400.png
END:VEVENT
BEGIN:VEVENT
DTSTART;TZID=America/Los_Angeles:20250330T110000
DTEND;TZID=America/Los_Angeles:20250330T150000
DTSTAMP:20260422T045632
CREATED:20250106T224726Z
LAST-MODIFIED:20250106T224736Z
UID:10014969-1743332400-1743346800@www.hiller.org
SUMMARY:Aviation Exploration Day
DESCRIPTION:Aviation Exploration Day\n			\n			\n				\n				\n				\n				\n			\n				\n				\n				\n				\n				\n				\n				\n				\n				\n				\n				Sunday March 3011 AM – 3 PM\nFree Event\nDiscover Your Future in Aviation!\nAre you a teenager with a passion for aviation? Do you dream of soaring through the skies as a commercial airline pilot\, defending your country as a military pilot\, or ensuring the safety of air travel as an air traffic controller? Join us for Aviation Exploration Day\, where you can explore a variety of exciting aviation careers and meet professionals who can guide you on your journey! \nWhat to Expect\n\nNetworking Opportunities: Connect with industry experts\, ask questions\, and get advice on how to pursue your aviation dreams.\nExhibits and Demonstrations: Explore the latest technology and innovations in aviation.\n\nCareer Paths in Aviation\n\nCommercial Airline Pilot: Learn about the training and qualifications needed to fly for major airlines and the exciting life of a commercial pilot.\nMilitary Pilot: Discover the rigorous training and dedication required to serve as a pilot in the armed forces.\nAir Traffic Controller: Find out how air traffic controllers manage the safe and efficient movement of aircraft in the skies and on the ground.\nAircraft Maintenance Technician: Explore the vital role of maintenance technicians in keeping aircraft safe and operational.\nDrone Operator: Dive into the rapidly growing field of drone operations and the various applications of drone technology.\nAirport Operations: Understand the complexities of managing airport operations and ensuring smooth and safe travel for passengers.\n\nWhy Attend?\n\nInspiration: Get inspired by the stories and experiences of aviation professionals.\nGuidance: Receive valuable advice on education\, training\, and career paths.\nHands-On Experience: Engage in practical activities that give you a real feel for different aviation roles.\nCommunity: Join a community of like-minded individuals who share your passion for aviation.\n\nDon’t miss this opportunity to take the first step towards an exciting and rewarding career in aviation! \n			\n			\n				\n				\n				\n				\n				\n				\n				\n				\n				\n				\n			\n				\n				\n				\n				\n				\n			\n				\n				\n				\n				\n				\n			\n				\n				\n				\n				\n				\n			\n				\n				\n				\n				\n				Find out what organizations are attending \nAviation Exploration Day: Click Here
URL:https://www.hiller.org/event/aviation-exploration-day/
LOCATION:Hiller Aviation Museum\, 601 Skyway Rd.\, San Carlos\, 94070\, United States
CATEGORIES:Event,Featured
ATTACH;FMTTYPE=image/jpeg:https://www.hiller.org/wp-content/uploads/FW-2-scaled.jpg
END:VEVENT
END:VCALENDAR