BEGIN:VCALENDAR
VERSION:2.0
PRODID:-//Hiller Aviation Museum - ECPv6.15.20//NONSGML v1.0//EN
CALSCALE:GREGORIAN
METHOD:PUBLISH
X-WR-CALNAME:Hiller Aviation Museum
X-ORIGINAL-URL:https://www.hiller.org
X-WR-CALDESC:Events for Hiller Aviation Museum
REFRESH-INTERVAL;VALUE=DURATION:PT1H
X-Robots-Tag:noindex
X-PUBLISHED-TTL:PT1H
BEGIN:VTIMEZONE
TZID:America/Los_Angeles
BEGIN:DAYLIGHT
TZOFFSETFROM:-0800
TZOFFSETTO:-0700
TZNAME:PDT
DTSTART:20240310T100000
END:DAYLIGHT
BEGIN:STANDARD
TZOFFSETFROM:-0700
TZOFFSETTO:-0800
TZNAME:PST
DTSTART:20241103T090000
END:STANDARD
BEGIN:DAYLIGHT
TZOFFSETFROM:-0800
TZOFFSETTO:-0700
TZNAME:PDT
DTSTART:20250309T100000
END:DAYLIGHT
BEGIN:STANDARD
TZOFFSETFROM:-0700
TZOFFSETTO:-0800
TZNAME:PST
DTSTART:20251102T090000
END:STANDARD
BEGIN:DAYLIGHT
TZOFFSETFROM:-0800
TZOFFSETTO:-0700
TZNAME:PDT
DTSTART:20260308T100000
END:DAYLIGHT
BEGIN:STANDARD
TZOFFSETFROM:-0700
TZOFFSETTO:-0800
TZNAME:PST
DTSTART:20261101T090000
END:STANDARD
END:VTIMEZONE
BEGIN:VEVENT
DTSTART;TZID=America/Los_Angeles:20250628T180000
DTEND;TZID=America/Los_Angeles:20250628T210000
DTSTAMP:20260422T195755
CREATED:20250307T004826Z
LAST-MODIFIED:20250624T233715Z
UID:10014971-1751133600-1751144400@www.hiller.org
SUMMARY:Flying Gatsby Ball
DESCRIPTION:Join Us for  \nThe Flying Gatsby Ball!\nStep back in time and celebrate the glitz and glamour of the Roaring 20s at the Flying Gatsby Ball\, proudly sponsored by the San Carlos City Centennial Community Grant. \nDance the night away to live music by the Brassworks Swing Band and show off your best 1920s-inspired attire in our fabulous Roaring 20’s Costume Contest! A no-host bar will also be available to keep the festive spirit alive. \nDon’t miss this enchanting evening of swing\, style\, and celebration of the City of San Carlos 100th Anniversary! \nThe Ball runs from 6PM-9PM – Special 1920’s dance lessons from 5:30PM-6PM \n			\n				\n				\n				\n				\n				Ticket Information: \nSan Carlos Residents FREE (Tickets and residency ID required upon arrival). First 150 San Carlos residents to arrive will also receive a dinner and ice cream voucher. \nGeneral Admission (Non-San Carlos Resident) \nAdult (18 and older): $25 \nSenior (65+): $20 \nYouth (4-17): $18 \nKids 3 and under free \nMuseum Members (Digital Membership Card & ID required upon arrival) Ticket also includes one free ice cream voucher for each member. \nAdult (18 and older): $12.50 \nSenior (65+): $10 \nChild (4-17): $9 \nKids 3 and under free \nThis is a Museum Signature event – Hiller Aviation Museum Members (Pilot level & above) will receive complimentary admission – please RSVP directly to Audie at audie@hiller.org \n			\n			\n				\n				\n				\n				\n				\n				\n				\n				\n				\n				First 150 San Carlos Residents to arrive may receive complimentary admission\, food truck and ice cream vouchers with proof of San Carlos residency. \nNon-San Carlos Residents may purchase tickets and dinner separately. \nHiller Aviation Museum members may purchase discounted admission tickets and dinner separately. Ticket does include one ice cream voucher per Museum Member. \nTickets on sale now! \nClick Eventbrite for tickets \n  \n			\n				\n				\n				\n				\n				\n			\n				\n				\n				\n				\n				\n			\n				\n				\n				\n				\n				Food Trucks \n\nT-Mo Burgers\nMister Softee NorCal
URL:https://www.hiller.org/event/flying-gatsby-ball/
LOCATION:Hiller Aviation Museum\, 601 Skyway Rd.\, San Carlos\, 94070\, United States
CATEGORIES:Event,Featured
ATTACH;FMTTYPE=image/jpeg:https://www.hiller.org/wp-content/uploads/Hiller-Flying-Gatsby-banner-600x450-1-1.jpg
END:VEVENT
END:VCALENDAR