BEGIN:VCALENDAR
VERSION:2.0
PRODID:-//Hiller Aviation Museum - ECPv6.15.20//NONSGML v1.0//EN
CALSCALE:GREGORIAN
METHOD:PUBLISH
X-WR-CALNAME:Hiller Aviation Museum
X-ORIGINAL-URL:https://www.hiller.org
X-WR-CALDESC:Events for Hiller Aviation Museum
REFRESH-INTERVAL;VALUE=DURATION:PT1H
X-Robots-Tag:noindex
X-PUBLISHED-TTL:PT1H
BEGIN:VTIMEZONE
TZID:America/Los_Angeles
BEGIN:DAYLIGHT
TZOFFSETFROM:-0800
TZOFFSETTO:-0700
TZNAME:PDT
DTSTART:20240310T100000
END:DAYLIGHT
BEGIN:STANDARD
TZOFFSETFROM:-0700
TZOFFSETTO:-0800
TZNAME:PST
DTSTART:20241103T090000
END:STANDARD
BEGIN:DAYLIGHT
TZOFFSETFROM:-0800
TZOFFSETTO:-0700
TZNAME:PDT
DTSTART:20250309T100000
END:DAYLIGHT
BEGIN:STANDARD
TZOFFSETFROM:-0700
TZOFFSETTO:-0800
TZNAME:PST
DTSTART:20251102T090000
END:STANDARD
BEGIN:DAYLIGHT
TZOFFSETFROM:-0800
TZOFFSETTO:-0700
TZNAME:PDT
DTSTART:20260308T100000
END:DAYLIGHT
BEGIN:STANDARD
TZOFFSETFROM:-0700
TZOFFSETTO:-0800
TZNAME:PST
DTSTART:20261101T090000
END:STANDARD
END:VTIMEZONE
BEGIN:VEVENT
DTSTART;TZID=America/Los_Angeles:20250906T120000
DTEND;TZID=America/Los_Angeles:20250906T160000
DTSTAMP:20260423T132647
CREATED:20240531T000941Z
LAST-MODIFIED:20250906T152641Z
UID:10014466-1757160000-1757174400@www.hiller.org
SUMMARY:Hops and Props
DESCRIPTION:Hops and Props at the Hiller Aviation Museum \n			\n			\n				\n				\n				\n				\n			\n				\n				\n			\n				\n				\n				\n				\n				\n				\n				\n				\n				\n				\n				\n				\n				\n				\n				\n				\n				\n				\n			\n			\n				\n				\n				\n				\n				\n			\n				\n				\n				\n				\n			\n				\n				\n			\n				\n				\n				\n				\n				\n				\n				\n				\n				\n				\n				\n				\n				\n				\n				\n				\n				\n				Hops and Props\nSaturday\, September 6th\, 202512 PM – 4 PM \nNo admission charge to attend the event \n			\n				\n				\n				\n				\n				What could be better than microbrew beer\, live music and cool airplanes under the warm September sky?  The Hiller Aviation Museum presents Hops & Props Beer Fest. \n			\n				\n				\n				\n				\n				Beer by Devil’s Canyon \nSelection: \n\nKaleidescope Sour Ale – Strawberry Lime\nLa Canada de Diablo Mexican Lager\nWhite Ale\nFestbier\nSpare the Air Hazy IPA\nFluent in Sarcasm Double West Coast IPA\nFull Boar Scotch Ale\nRoot Beer Non-Alcoholic\n\nBeer: $11 a pour \nCommemorative Mason Jar (optional): $5 \nWine: $14 a glass. (Free Helifest glasses included) \n\nCabernet Sauvignon\nPinot Noir\nRose’\nChardonnay\nSauvignon Blanc\n\n			\n				\n				\n				\n				\n				\n			\n			\n				\n				\n				\n				\n				\n				\n				\n				\n				\n				\n			\n				\n				\n				\n				\n				FREE EVENT ADMISSION\nMuseum Gallery admission can be purchased separately but is not required to attend Hops & Props \n			\n				\n				\n				\n				\n				What are my parking options?The museum has FREE parking. Please designate a driver. \nBest option: Uber or Lyft \n			\n			\n				\n				\n				\n				\n			\n				\n				\n				\n				\n				\n				\n				\n				\n				\n				\n				Band:\n			\n				\n				\n				\n				\n				12 PM – 4 PM \nThe Montgomery Coe Band \n Fun times and fun music! Hits from Classic Pop & Southern Rock\, to Funky Soul & Rock n Roll!  \nwww.montgomerycoe.com \n			\n			\n				\n				\n				\n				\n				\n				\n				\n				\n				\n				\n			\n			\n				\n				\n				\n				\n			\n				\n				\n				\n				\n				\n				\n				\n					\n					\n					\n				\n				\n					\n					\n					\n				\n				\n					\n					\n					\n				\n				\n					\n					\n					\n				\n				\n					\n					\n					\n				\n				\n					\n					\n					\n				\n				\n					\n					\n					\n				\n				\n					\n					\n					\n				\n				\n					\n					\n					\n				\n				\n			\n				\n				\n				\n				\n			\n				\n				\n			\n				\n				\n				\n				\n				\n				\n				\n				\n				\n				\n				\n				\n				\n				\n				\n				\n				\n				\n			\n			\n				\n				\n				\n				\n				\n				\n				\n				\n				\n				​Gold Rush Eatery is bringing some truly great eats to the streets of San Jose\, and once you’ve found this food truck\, it’ll be like striking gold. Elevating the regular street food fare to gourmet deliciousness\, you’ve never had anything quite like the stuff they’ve got on board. Just what’s cookin’ at Gold Rush Eatery? Those all American classics that satisfy your hunger and your cravings in one fell swoop. Get their signature Gold Rush burger outfitted with cheddar cheese and their secret miner sauce\, or pig out on their Montana burger topped with bleu cheese\, bacon and buttermilk sauce. Or\, if you’ve got a beef with beef\, Gold Rush Eatery’s got BLT’s\, chicken sandwiches\, fried ravioli and even loaded tots to sink your teeth into. And honestly too much else to list out here. You’ll just have to find ’em yourself. So do that\, find Gold Rush Eatery in San Jose\, or have ’em out to cater your next event. Trust us. It’s the golden standard as far as food trucks go. \nMUST TRY \n\nFried Ravioli – these perfect pasta pillows are deep fried to golden brown perfection and filled with such goodness as Italian sausage and cheese with a side of marinara for the dipping
URL:https://www.hiller.org/event/hops-and-props/
LOCATION:Hiller Aviation Museum\, 601 Skyway Rd.\, San Carlos\, 94070\, United States
CATEGORIES:Event,Featured
ATTACH;FMTTYPE=image/jpeg:https://www.hiller.org/wp-content/uploads/Hops-and-Props-Hiller-Museum.jpg
END:VEVENT
BEGIN:VEVENT
DTSTART;TZID=America/Los_Angeles:20250914T100000
DTEND;TZID=America/Los_Angeles:20250914T170000
DTSTAMP:20260423T132647
CREATED:20240531T225415Z
LAST-MODIFIED:20250825T205505Z
UID:10015494-1757844000-1757869200@www.hiller.org
SUMMARY:Scout Day
DESCRIPTION:Scout Day\n			\n				\n				\n				\n				\n				\n			\n				\n				\n				\n				\n				The Hiller Aviation Museum provides complimentary admission to all BSA Scouts and Girl Scouts in uniform on Scout Days!  Visit the Museum’s collection of over 50 historic aircraft\, discover flight with various interactive exhibits\, and join the fun with hands-on explorations in the Invention Lab\, Drone Plex\, and Flight Sim Zone (additional fee applies for flight simulation).  Explore historic airplanes and helicopters and learn more about the special programs offered at the Hiller Aviation Museum for BSA Scouts and Girl Scouts throughout the year. \nNo reservations are necessary\, arrive in uniform for an exciting day of aviation discovery.  Adult leaders in uniform or with Scout ID are also admitted at no charge.  Standard admission fees apply for parents and siblings (no charge for Museum Members and children ages 0-4).  Don’t miss the chance to join a high-flying adventure! \n			\n			\n				\n				\n				\n				\n			\n				\n				\n				\n				\n				\n				\n				\n				\n				\n				\n				Scout Day Dates\nSunday\, September 14\, 2025Sunday\, January 11\, 2026Sunday\, May 17\, 2026 \nNo admission charge for Scouts in uniform!
URL:https://www.hiller.org/event/scout-day/2025-09-14/
LOCATION:Hiller Aviation Museum\, 601 Skyway Rd.\, San Carlos\, 94070\, United States
CATEGORIES:Event
ATTACH;FMTTYPE=image/jpeg:https://www.hiller.org/wp-content/uploads/boy_scouts_3_400x300px.jpg
END:VEVENT
BEGIN:VEVENT
DTSTART;TZID=America/Los_Angeles:20250920T120000
DTEND;TZID=America/Los_Angeles:20250920T150000
DTSTAMP:20260423T132648
CREATED:20250813T223146Z
LAST-MODIFIED:20250813T223151Z
UID:10015489-1758369600-1758380400@www.hiller.org
SUMMARY:Exotic Car Show
DESCRIPTION:Exotic Car Show\n			\n				\n				\n				\n				\n				\n			\n				\n				\n				\n				\n				Come experience a world where speed\, style\, and precision meet. The Hiller Aviation Museum is hosting an Exotic Car Show featuring breathtaking rides from Ferrari\, Lamborghini\, McLaren\, Porsche\, and more — plus a look at the sleek Cirrus Aircraft. \nThe show takes place in the museum’s Compass Rose\, with stunning views of the airport runway as your backdrop. Whether you’re a car enthusiast\, an aviation fan\, or just love seeing incredible engineering in action\, this event promises a fun\, awe-inspiring afternoon of roaring engines\, polished exteriors\, and cutting-edge design. \nThe best part? Admission to the museum covers it all\, so you can enjoy the cars\, aircraft\, and museum exhibits in one visit. \nProudly sponsored by: Lumexa Creative Media\, Aero Fuel\, The Crow Motorsport\, Ana Car Crew Fam\, and Hiller Aviation Museum. \n			\n				\n				\n				\n				\n				\n				\n				\n					\n                \n                    \n\n                    \n                    \n                        \n                    \n                \n                    \n\n                    \n                    \n                        \n                    \n                \n                    \n\n                    \n                    \n                        \n                    \n                \n                    \n\n                    \n                    \n                        \n                    \n                \n                \n                    See More 5\n                    \n                        \n                            \n                                \n                                \n                            \n                            \n                                \n                                \n                            \n                            \n                                \n                                \n                            \n                            \n                                \n                                \n                            \n                            \n                                \n                                \n                            \n                        \n                    \n                \n                \n            \n				\n			\n			\n				\n				\n				\n				\n			\n				\n				\n			\n				\n				\n				\n				\n				\n				\n				\n				\n				\n				\n				\n				\n				\n				\n				\n				\n				\n				\n			\n			\n				\n				\n				\n				\n				\n				\n				\n				\n				\n				Get your tickets\n			\n				\n				\n				\n				\n				This Event is included with museum admission.\nMuseum Members are Free. Just show your membership at the admissions desk.\n			\n				Buy Tickets
URL:https://www.hiller.org/event/exotic-car-show/
LOCATION:Hiller Aviation Museum\, 601 Skyway Rd.\, San Carlos\, 94070\, United States
CATEGORIES:Event,Featured
ATTACH;FMTTYPE=image/jpeg:https://www.hiller.org/wp-content/uploads/Ferrari-Lambo-747-scaled.jpg
END:VEVENT
BEGIN:VEVENT
DTSTART;TZID=America/Los_Angeles:20250927T170000
DTEND;TZID=America/Los_Angeles:20250927T210000
DTSTAMP:20260423T132648
CREATED:20250421T221559Z
LAST-MODIFIED:20250825T175956Z
UID:10015079-1758992400-1759006800@www.hiller.org
SUMMARY:Gala 2025 - Beyond the Horizon
DESCRIPTION:Beyond the Horizon \nThe Future of Electric Flight \n21st Annual Benefit Gala \n			\n				\n				\n				\n				\n				\n			\n			\n				\n				\n				\n				\n			\n				\n				\n				\n				\n				\n				\n				\n				\n				\n				\n				\n			\n				\n				\n				\n				\n				Hiller Aviation Museum is committed to inspiring adventure and innovation while using tools of science to explore how the physical world works and how the dream of flight is made into a reality. \nJoin us and support our mission to provide STEM education to future generations!\n			\n				\n				\n				\n				\n				Saturday\, September 27\, at 5 pm\n21st Annual Benefit Gala Beyond the Horizon \nThe Future of Electric Flight\n \n			\n				\n				\n				\n				\n				\n			\n				\n				\n				\n				\n				Eric Allison\, Joby Aviation’s Chief Product Officer. \n			\n			\n				\n				\n				\n				\n				\n				Buy Tickets\n			\n				\n				\n				\n				\n				\n			\n				\n				\n				\n				\n				Keynote by: Eric Allison\nEric serves as Joby Aviation’s Chief Product Officer. He most recently led the Elevate team at Uber\, developing software tools that built on more than a decade of experience enabling on-demand mobility. His experience in aerospace research\, electric propulsion\, energy storage\, vehicle autonomy\, and composite structures led him to the CEO position at Zee Aero\, where he spearheaded the development of Cora\, an autonomous air taxi vehicle. Eric holds a PhD in Aeronautics and Astronautics from Stanford\, an MS in Aeronautics and Astronautics from Stanford\, and a BS from the Milwaukee School of Engineering. \n			\n			\n				\n				\n				\n				\n			\n				\n				\n				\n				\n				\n				\n				Buy Tickets\n			\n				\n				\n				\n				\n				Special Thanks to the Hiller Aviation Museum Board of Directors\n \nStephen S. Hiller\, Chair; Manuel Terranova\, Vice Chair; Kirsten Komoroske\, Secretary\nMark Jon Bluth | Matt Champion | Oliver Coolidge | Scott Cronce | Matt Croce | Rick Ellinger |   \n Rick Gostyla | Bob Grassilli | Mubarik Imam | Christopher Lee | Carla Leibowitz | Charles Litchfield\nBob Lundy | Robert MacLean | Hank Scherf | Tina Srivastava | Michelle Williams\n			\n			\n				\n				\n				\n				\n			\n				\n				\n				\n				\n				\n				\n				\n					\n					\n					\n				\n				\n					\n					\n					\n				\n				\n					\n					\n					\n				\n				\n					\n					\n					\n				\n				\n					\n					\n					\n				\n				\n					\n					\n					\n				\n				\n					\n					\n					\n				\n				\n					\n					\n					\n				\n				\n					\n					\n					\n				\n				\n			\n				\n				\n				\n				\n			\n				\n				\n				\n				\n				\n				\n				\n				\n				\n				\n				Download the in-kind Donation letter here. You can fill out our donation form and email or mail it back to us.\n			\n			\n				\n				\n				\n				\n				\n				Download PDF Form\n			\n			\n				\n				\n				\n				\n			\n				\n				\n				\n				\n				\n				\n				\n				\n				\n				\n				How to Contribute Auction Prizes\nAuction prize donations for 2025 are already being collected and are greatly appreciated\, especially gifts of fine wine\, getaways\, aviation experiences\, and more! \nPlease contact Audie Amirkiai to donate prizes for our live and silent auction. \n650-654-0200 x203\, audie@hiller.org \n			\n				\n				\n				\n				\n				\n\nYour Support is Greatly Appreciated!\n~ Donate Now ~\n$5\,000 ∙ $2\,500 ∙ $1\,000 ∙ $500 ∙ $250 ∙ $100 ∙ $50 \nYour support is greatly appreciated!Donations are 100% tax deductible. \n\n\n			\n				\n				\n				\n				\n				\n\n\n\nOther Ways to Donate\nMail:Hiller Aviation MuseumAttn: Beyond the Horizon601 Skyway RoadSan Carlos\, CA 94070 \n\n\n\n\nDAF:Hiller Aviation Institute & Museum Nonprofit Tax ID# 94-3226411 \n\n\n\n\n			\n			\n				\n				\n				\n				\n			\n				\n				\n			\n				\n				\n				\n				\n				\n				\n				\n				\n				\n				\n				\n				\n				\n				\n				\n				\n				\n				\n			\n			\n				\n				\n				\n				\n				\n				\n				\n				\n				\n				Get your Benefit Gala Tickets\n			\n				Tickets ~ Sponsorships ~ Donations
URL:https://www.hiller.org/event/gala-2025-beyond-the-horizon/
LOCATION:Hiller Aviation Museum\, 601 Skyway Rd.\, San Carlos\, 94070\, United States
CATEGORIES:Event,Featured
ATTACH;FMTTYPE=image/png:https://www.hiller.org/wp-content/uploads/2025InKind-Update.png
END:VEVENT
END:VCALENDAR