BEGIN:VCALENDAR
VERSION:2.0
PRODID:-//Hiller Aviation Museum - ECPv6.15.20//NONSGML v1.0//EN
CALSCALE:GREGORIAN
METHOD:PUBLISH
X-ORIGINAL-URL:https://www.hiller.org
X-WR-CALDESC:Events for Hiller Aviation Museum
REFRESH-INTERVAL;VALUE=DURATION:PT1H
X-Robots-Tag:noindex
X-PUBLISHED-TTL:PT1H
BEGIN:VTIMEZONE
TZID:America/Los_Angeles
BEGIN:DAYLIGHT
TZOFFSETFROM:-0800
TZOFFSETTO:-0700
TZNAME:PDT
DTSTART:20240310T100000
END:DAYLIGHT
BEGIN:STANDARD
TZOFFSETFROM:-0700
TZOFFSETTO:-0800
TZNAME:PST
DTSTART:20241103T090000
END:STANDARD
BEGIN:DAYLIGHT
TZOFFSETFROM:-0800
TZOFFSETTO:-0700
TZNAME:PDT
DTSTART:20250309T100000
END:DAYLIGHT
BEGIN:STANDARD
TZOFFSETFROM:-0700
TZOFFSETTO:-0800
TZNAME:PST
DTSTART:20251102T090000
END:STANDARD
BEGIN:DAYLIGHT
TZOFFSETFROM:-0800
TZOFFSETTO:-0700
TZNAME:PDT
DTSTART:20260308T100000
END:DAYLIGHT
BEGIN:STANDARD
TZOFFSETFROM:-0700
TZOFFSETTO:-0800
TZNAME:PST
DTSTART:20261101T090000
END:STANDARD
END:VTIMEZONE
BEGIN:VEVENT
DTSTART;TZID=America/Los_Angeles:20250301T110000
DTEND;TZID=America/Los_Angeles:20250301T123000
DTSTAMP:20260424T081700
CREATED:20250115T192854Z
LAST-MODIFIED:20250206T214634Z
UID:10014970-1740826800-1740832200@www.hiller.org
SUMMARY:Air Racing Exhibit Grand Opening
DESCRIPTION:Air Racing Grand Opening Event\nSaturday\, March 1\, 11 AM\nPanel Discussion and Ribbon Cutting\n			\n			\n				\n				\n				\n				\n			\n				\n				\n				\n				\n				\n				\n				\n				\n				\n				\n				Celebrate the grand opening of Air Racing at the Hiller Aviation Museum! This exciting new exhibit features displays from the Golden Age of Air Racing and the Reno Air Races.  Renowned air race pilots Vicky Benzing\, Justin Phillipson\, Dave Morss\, and Bruce Wallace join in a spirited panel discussion at 11 AM\, followed by the ceremonial ribbon cutting to formally open the new exhibit at 12 noon. Join us for a thrilling journey through air racing history and witness the evolution of the world’s fastest motor sport. \nWe’d like to thank the Benzing\, Mendonca\, Williamson families in addition to our invaluable restoration volunteers for their collaborative support to make this exhibit possible.
URL:https://www.hiller.org/event/air-racing/
LOCATION:Hiller Aviation Museum\, 601 Skyway Rd.\, San Carlos\, 94070\, United States
CATEGORIES:Event,Featured
ATTACH;FMTTYPE=image/jpeg:https://www.hiller.org/wp-content/uploads/Vicky-pylon.jpg
END:VEVENT
END:VCALENDAR