BEGIN:VCALENDAR
VERSION:2.0
PRODID:-//Hiller Aviation Museum - ECPv6.15.20//NONSGML v1.0//EN
CALSCALE:GREGORIAN
METHOD:PUBLISH
X-WR-CALNAME:Hiller Aviation Museum
X-ORIGINAL-URL:https://www.hiller.org
X-WR-CALDESC:Events for Hiller Aviation Museum
REFRESH-INTERVAL;VALUE=DURATION:PT1H
X-Robots-Tag:noindex
X-PUBLISHED-TTL:PT1H
BEGIN:VTIMEZONE
TZID:America/Los_Angeles
BEGIN:DAYLIGHT
TZOFFSETFROM:-0800
TZOFFSETTO:-0700
TZNAME:PDT
DTSTART:20240310T100000
END:DAYLIGHT
BEGIN:STANDARD
TZOFFSETFROM:-0700
TZOFFSETTO:-0800
TZNAME:PST
DTSTART:20241103T090000
END:STANDARD
BEGIN:DAYLIGHT
TZOFFSETFROM:-0800
TZOFFSETTO:-0700
TZNAME:PDT
DTSTART:20250309T100000
END:DAYLIGHT
BEGIN:STANDARD
TZOFFSETFROM:-0700
TZOFFSETTO:-0800
TZNAME:PST
DTSTART:20251102T090000
END:STANDARD
BEGIN:DAYLIGHT
TZOFFSETFROM:-0800
TZOFFSETTO:-0700
TZNAME:PDT
DTSTART:20260308T100000
END:DAYLIGHT
BEGIN:STANDARD
TZOFFSETFROM:-0700
TZOFFSETTO:-0800
TZNAME:PST
DTSTART:20261101T090000
END:STANDARD
END:VTIMEZONE
BEGIN:VEVENT
DTSTART;TZID=America/Los_Angeles:20250823T110000
DTEND;TZID=America/Los_Angeles:20250823T120000
DTSTAMP:20260423T132848
CREATED:20231230T010725Z
LAST-MODIFIED:20250804T224911Z
UID:10008271-1755946800-1755950400@www.hiller.org
SUMMARY:Paper Airplanes
DESCRIPTION:Paper Airplanes\n			\n			\n				\n				\n				\n				\n			\n				\n				\n				\n				\n				\n				\n				\n				\n				\n				\n				Everyone loves paper airplanes. We turn into test pilots just by folding sheets of paper. We make them to see how fast they will go or how far they will fly\, we even try to do aerobatics with them. \n			\n				\n				\n				\n				\n				\nOne of the top paper airplane makers in the country (and world record holder)\, John Collins\, will join us for an expert demonstration of the wonder\, delight and aeronautic capabilities of hand made paper gliders. John is world distance paper airplane record holder and a master paper airplane builder. John has written a number of books on building paper airplanes that will be available at the event and John will make sure he personalizes it just for you. \n			\n			\n				\n				\n				\n				\n				\n				\n				\n				\n				\n				\n			\n			\n				\n				\n				\n				\n			\n				\n				\n			\n				\n				\n				\n				\n				\n				\n				\n				\n				\n				\n				\n				\n				\n				\n					\n					\n					\n				\n				\n					\n					\n					\n				\n				\n				\n				\n				\n				\n				\nJohn’s discussions and demonstrations will last approximately 45 minutes. No reservations are required and the event is included with your museum admission. \n			\n			\n				\n				\n				\n				\n				\n				\n					\n					\n					\n				\n				\n					\n					\n					\n				\n				\n					\n					\n					\n				\n				\n				\n				\n				\n				\n				\nJohn’s creative designs include planes so light that simply holding it above your hand and walking makes it fly. He has planes that perform unique aerobatics and even planes that become two when thrown in the air. \n			\n			\n				\n				\n				\n				\n			\n				\n				\n			\n				\n				\n				\n				\n				\n				\n				\n				\n				\n				\n				\n				\n				\n				\n				\n				\n				\n				\n			\n			\n				\n				\n				\n				\n				\n				\n				\n				\n				\n				Get your tickets\n			\n				\n				\n				\n				\n				This Event is included with museum admission.Museum Members are Free. Just show your membership at the door. \n			\n				Buy Tickets
URL:https://www.hiller.org/event/paper-airplanes/
LOCATION:Hiller Aviation Museum\, 601 Skyway Rd.\, San Carlos\, 94070\, United States
CATEGORIES:Event,Featured
ATTACH;FMTTYPE=image/jpeg:https://www.hiller.org/wp-content/uploads/promo_paper_airplanes_400x300px-1.jpg
END:VEVENT
END:VCALENDAR