BEGIN:VCALENDAR
VERSION:2.0
PRODID:-//Hiller Aviation Museum - ECPv6.15.20//NONSGML v1.0//EN
CALSCALE:GREGORIAN
METHOD:PUBLISH
X-ORIGINAL-URL:https://www.hiller.org
X-WR-CALDESC:Events for Hiller Aviation Museum
REFRESH-INTERVAL;VALUE=DURATION:PT1H
X-Robots-Tag:noindex
X-PUBLISHED-TTL:PT1H
BEGIN:VTIMEZONE
TZID:America/Los_Angeles
BEGIN:DAYLIGHT
TZOFFSETFROM:-0800
TZOFFSETTO:-0700
TZNAME:PDT
DTSTART:20240310T100000
END:DAYLIGHT
BEGIN:STANDARD
TZOFFSETFROM:-0700
TZOFFSETTO:-0800
TZNAME:PST
DTSTART:20241103T090000
END:STANDARD
BEGIN:DAYLIGHT
TZOFFSETFROM:-0800
TZOFFSETTO:-0700
TZNAME:PDT
DTSTART:20250309T100000
END:DAYLIGHT
BEGIN:STANDARD
TZOFFSETFROM:-0700
TZOFFSETTO:-0800
TZNAME:PST
DTSTART:20251102T090000
END:STANDARD
BEGIN:DAYLIGHT
TZOFFSETFROM:-0800
TZOFFSETTO:-0700
TZNAME:PDT
DTSTART:20260308T100000
END:DAYLIGHT
BEGIN:STANDARD
TZOFFSETFROM:-0700
TZOFFSETTO:-0800
TZNAME:PST
DTSTART:20261101T090000
END:STANDARD
END:VTIMEZONE
BEGIN:VEVENT
DTSTART;TZID=America/Los_Angeles:20250906T120000
DTEND;TZID=America/Los_Angeles:20250906T160000
DTSTAMP:20260423T150527
CREATED:20240531T000941Z
LAST-MODIFIED:20250906T152641Z
UID:10014466-1757160000-1757174400@www.hiller.org
SUMMARY:Hops and Props
DESCRIPTION:Hops and Props at the Hiller Aviation Museum \n			\n			\n				\n				\n				\n				\n			\n				\n				\n			\n				\n				\n				\n				\n				\n				\n				\n				\n				\n				\n				\n				\n				\n				\n				\n				\n				\n				\n			\n			\n				\n				\n				\n				\n				\n			\n				\n				\n				\n				\n			\n				\n				\n			\n				\n				\n				\n				\n				\n				\n				\n				\n				\n				\n				\n				\n				\n				\n				\n				\n				\n				Hops and Props\nSaturday\, September 6th\, 202512 PM – 4 PM \nNo admission charge to attend the event \n			\n				\n				\n				\n				\n				What could be better than microbrew beer\, live music and cool airplanes under the warm September sky?  The Hiller Aviation Museum presents Hops & Props Beer Fest. \n			\n				\n				\n				\n				\n				Beer by Devil’s Canyon \nSelection: \n\nKaleidescope Sour Ale – Strawberry Lime\nLa Canada de Diablo Mexican Lager\nWhite Ale\nFestbier\nSpare the Air Hazy IPA\nFluent in Sarcasm Double West Coast IPA\nFull Boar Scotch Ale\nRoot Beer Non-Alcoholic\n\nBeer: $11 a pour \nCommemorative Mason Jar (optional): $5 \nWine: $14 a glass. (Free Helifest glasses included) \n\nCabernet Sauvignon\nPinot Noir\nRose’\nChardonnay\nSauvignon Blanc\n\n			\n				\n				\n				\n				\n				\n			\n			\n				\n				\n				\n				\n				\n				\n				\n				\n				\n				\n			\n				\n				\n				\n				\n				FREE EVENT ADMISSION\nMuseum Gallery admission can be purchased separately but is not required to attend Hops & Props \n			\n				\n				\n				\n				\n				What are my parking options?The museum has FREE parking. Please designate a driver. \nBest option: Uber or Lyft \n			\n			\n				\n				\n				\n				\n			\n				\n				\n				\n				\n				\n				\n				\n				\n				\n				\n				Band:\n			\n				\n				\n				\n				\n				12 PM – 4 PM \nThe Montgomery Coe Band \n Fun times and fun music! Hits from Classic Pop & Southern Rock\, to Funky Soul & Rock n Roll!  \nwww.montgomerycoe.com \n			\n			\n				\n				\n				\n				\n				\n				\n				\n				\n				\n				\n			\n			\n				\n				\n				\n				\n			\n				\n				\n				\n				\n				\n				\n				\n					\n					\n					\n				\n				\n					\n					\n					\n				\n				\n					\n					\n					\n				\n				\n					\n					\n					\n				\n				\n					\n					\n					\n				\n				\n					\n					\n					\n				\n				\n					\n					\n					\n				\n				\n					\n					\n					\n				\n				\n					\n					\n					\n				\n				\n			\n				\n				\n				\n				\n			\n				\n				\n			\n				\n				\n				\n				\n				\n				\n				\n				\n				\n				\n				\n				\n				\n				\n				\n				\n				\n				\n			\n			\n				\n				\n				\n				\n				\n				\n				\n				\n				\n				​Gold Rush Eatery is bringing some truly great eats to the streets of San Jose\, and once you’ve found this food truck\, it’ll be like striking gold. Elevating the regular street food fare to gourmet deliciousness\, you’ve never had anything quite like the stuff they’ve got on board. Just what’s cookin’ at Gold Rush Eatery? Those all American classics that satisfy your hunger and your cravings in one fell swoop. Get their signature Gold Rush burger outfitted with cheddar cheese and their secret miner sauce\, or pig out on their Montana burger topped with bleu cheese\, bacon and buttermilk sauce. Or\, if you’ve got a beef with beef\, Gold Rush Eatery’s got BLT’s\, chicken sandwiches\, fried ravioli and even loaded tots to sink your teeth into. And honestly too much else to list out here. You’ll just have to find ’em yourself. So do that\, find Gold Rush Eatery in San Jose\, or have ’em out to cater your next event. Trust us. It’s the golden standard as far as food trucks go. \nMUST TRY \n\nFried Ravioli – these perfect pasta pillows are deep fried to golden brown perfection and filled with such goodness as Italian sausage and cheese with a side of marinara for the dipping
URL:https://www.hiller.org/event/hops-and-props/
LOCATION:Hiller Aviation Museum\, 601 Skyway Rd.\, San Carlos\, 94070\, United States
CATEGORIES:Event,Featured
ATTACH;FMTTYPE=image/jpeg:https://www.hiller.org/wp-content/uploads/Hops-and-Props-Hiller-Museum.jpg
END:VEVENT
END:VCALENDAR